BEGIN:VCALENDAR
VERSION:2.0
PRODID:-//ChamberMaster//Event Calendar 2.0//EN
METHOD:PUBLISH
X-PUBLISHED-TTL:P3D
REFRESH-INTERVAL:P3D
CALSCALE:GREGORIAN
BEGIN:VEVENT
DTSTART:20170216T230000Z
DTEND:20170217T010000Z
X-MICROSOFT-CDO-ALLDAYEVENT:FALSE
SUMMARY:Daddy/Daughter Valentine's Day Dance
DESCRIPTION:Mark your calendar and get your tickets for this elegant evening! As always\, this traditionally treasured dad and daughter night out will include awesome music provided by a professional DJ to dance the night away to\, along with refreshments\, plus each girl will receive a special memento. Show your favorite valentine how special she is by joining us on Thursday\, February 16 from 6 to 8 pm at the Elkhart County 4-H Fairgrounds\, Goshen. Memory photos will be taken and will be available for purchase at the dance. Cost for the event is $12 per person. Check back on Facebook for updates on when tickets will be available for purchase.
X-ALT-DESC;FMTTYPE=text/html:Mark your calendar and get your tickets for this elegant evening! As always\, this traditionally treasured dad and daughter night out will include awesome music provided by a professional DJ to dance the night away to\, along with refreshments\, plus each girl will receive a special memento. Show your favorite valentine how special she is by joining us on Thursday\, February 16 from 6 to 8 pm at the Elkhart County 4-H Fairgrounds\, Goshen. Memory photos will be taken and will be available for purchase at the dance. Cost for the event is $12 per person. Check back on Facebook for updates on when tickets will be available for purchase.
LOCATION:
UID:e.689.16199
SEQUENCE:3
DTSTAMP:20260425T140750Z
URL:https://business.goshen.org/events/details/daddy-daughter-valentine-s-day-dance-16199
END:VEVENT

END:VCALENDAR
