BEGIN:VCALENDAR
VERSION:2.0
PRODID:-//ChamberMaster//Event Calendar 2.0//EN
METHOD:PUBLISH
X-PUBLISHED-TTL:P3D
REFRESH-INTERVAL:P3D
CALSCALE:GREGORIAN
BEGIN:VEVENT
DTSTART:20190730T200000Z
DTEND:20190730T230000Z
X-MICROSOFT-CDO-ALLDAYEVENT:FALSE
SUMMARY:Cruise In
DESCRIPTION:All models & makes. Motorcycles welcome! Food\, ice cream\, vintage sodas! Live Dj "Bad Entertainment" Prizes & Giveaways!
X-ALT-DESC;FMTTYPE=text/html:All models &amp\; makes. Motorcycles welcome! Food\, ice cream\, vintage sodas! Live Dj &quot\;Bad Entertainment&quot\; Prizes &amp\; Giveaways!
LOCATION:Southgate Crossing 22751 Co. Rd. 26 Elkhart\, IN
UID:e.689.19605
SEQUENCE:3
DTSTAMP:20260423T105757Z
URL:https://business.goshen.org/events/details/cruise-in-07-30-2019-19605
END:VEVENT

END:VCALENDAR
