BEGIN:VCALENDAR
VERSION:2.0
PRODID:-//ChamberMaster//Event Calendar 2.0//EN
METHOD:PUBLISH
X-PUBLISHED-TTL:P3D
REFRESH-INTERVAL:P3D
CALSCALE:GREGORIAN
BEGIN:VEVENT
DTSTART:20220129T150000Z
DTEND:20220129T163000Z
X-MICROSOFT-CDO-ALLDAYEVENT:FALSE
SUMMARY:Creative Lego Block Printing Workshop
DESCRIPTION:Join us as we teach the basic block printing process and try something new as we print with LEGOS! You will get to play and experiment with all of the textures and patterns that legos provide. Participants will leave with practice sheets as well as 2 complete printed projects on quality paper backed with coordinating color of choice.\n\n \n\nWorkshop Suited for age 8 and up\n\n* The sign-up cut off date is January 27th.\n\n \n\nEmail us at shopimaginationspot@gmail.com for any questions.\n\nPlease note: Masks will be required for all participants.
X-ALT-DESC;FMTTYPE=text/html:<div>Join us as we teach the basic block printing process and try something new as we print with LEGOS! You will get to play and experiment with all of the textures and patterns that legos provide. Participants will leave with practice sheets as well as 2 complete printed projects on quality paper backed with coordinating color of choice.<br />\n&nbsp\;</div>\n\n<div>Workshop Suited for age 8 and up</div>\n\n<div>* The sign-up cut off date is January 27th.<br />\n&nbsp\;</div>\n\n<div>Email us at shopimaginationspot@gmail.com for any questions.</div>\n\n<div>Please note: Masks will be required for all participants.</div>\n
LOCATION:The Imagination Spot\, 111 E Washington St. Goshen\, IN 46528
UID:e.689.23513
SEQUENCE:3
DTSTAMP:20260420T060800Z
URL:https://business.goshen.org/events/details/creative-lego-block-printing-workshop-23513
END:VEVENT

END:VCALENDAR
