BEGIN:VCALENDAR
VERSION:2.0
PRODID:-//ChamberMaster//Event Calendar 2.0//EN
METHOD:PUBLISH
X-PUBLISHED-TTL:P3D
REFRESH-INTERVAL:P3D
CALSCALE:GREGORIAN
BEGIN:VEVENT
DTSTART:20161022T180000Z
DTEND:20161022T190000Z
X-MICROSOFT-CDO-ALLDAYEVENT:FALSE
SUMMARY:Creative Costume Contest (Homemade)
DESCRIPTION:"Creative Costume Contest" Costumes must be homemade.  Categories: 5 and under\; 6-11 and 12-18. Top 3 winners in each category will receive a prize. Registrations must be completed by 9:00p on October 21. Forms will be available at Customer Service on October 1.
X-ALT-DESC;FMTTYPE=text/html:&quot\;Creative Costume Contest&quot\; Costumes must be homemade.&nbsp\; Categories: 5 and under\; 6-11 and 12-18. Top 3 winners in each category will receive a prize. Registrations must be completed by 9:00p on October 21. Forms will be available at Customer Service on October 1.
LOCATION:Concord Mall 3701 S. Main Street Elkhart\, IN 46517 574-875-6502
UID:e.689.16231
SEQUENCE:3
DTSTAMP:20260425T221415Z
URL:https://business.goshen.org/events/details/creative-costume-contest-homemade-16231
END:VEVENT

END:VCALENDAR
