BEGIN:VCALENDAR
VERSION:2.0
PRODID:-//ChamberMaster//Event Calendar 2.0//EN
METHOD:PUBLISH
X-PUBLISHED-TTL:P3D
REFRESH-INTERVAL:P3D
CALSCALE:GREGORIAN
BEGIN:VEVENT
DTSTART:20180608T200000Z
DTEND:20180608T230000Z
X-MICROSOFT-CDO-ALLDAYEVENT:FALSE
SUMMARY:Courtyard Healthcare Center Jonah Fish Fry
DESCRIPTION:Courtyard Healthcare Center\n\nJonah Fish Fry
X-ALT-DESC;FMTTYPE=text/html:<div style="text-align: center\;"><span style="font-size:22px\;">Courtyard Healthcare Center<br />\nJonah Fish Fry</span><br />\n&nbsp\;</div>\n
LOCATION:Courtyard Healthcare Center 2400 College Avenue Goshen\, IN
UID:e.689.17842
SEQUENCE:3
DTSTAMP:20260424T134611Z
URL:https://business.goshen.org/events/details/courtyard-healthcare-center-jonah-fish-fry-17842
END:VEVENT

END:VCALENDAR
