BEGIN:VCALENDAR
VERSION:2.0
PRODID:-//ChamberMaster//Event Calendar 2.0//EN
METHOD:PUBLISH
X-PUBLISHED-TTL:P3D
REFRESH-INTERVAL:P3D
CALSCALE:GREGORIAN
BEGIN:VEVENT
DTSTART:20170429T170000Z
DTEND:20170429T200000Z
X-MICROSOFT-CDO-ALLDAYEVENT:FALSE
SUMMARY:Country Strong Grand Opening
DESCRIPTION:Country Strong Grand Opening\n\n\n\nCome Celebrate our Grand Opening
X-ALT-DESC;FMTTYPE=text/html:<div style="text-align: center\;">Country Strong Grand Opening<br />\n<br />\nCome Celebrate our Grand Opening</div>\n
LOCATION:Country Strong 22889 CR 36 Goshen\, IN
UID:e.689.16756
SEQUENCE:3
DTSTAMP:20260425T104205Z
URL:https://business.goshen.org/events/details/country-strong-grand-opening-16756
END:VEVENT

END:VCALENDAR
