BEGIN:VCALENDAR
VERSION:2.0
PRODID:-//ChamberMaster//Event Calendar 2.0//EN
METHOD:PUBLISH
X-PUBLISHED-TTL:P3D
REFRESH-INTERVAL:P3D
CALSCALE:GREGORIAN
BEGIN:VEVENT
DTSTART:20171116T190000Z
DTEND:20171116T220000Z
X-MICROSOFT-CDO-ALLDAYEVENT:FALSE
SUMMARY:Corporate Retreat Open House
DESCRIPTION:An open house for business managers and leaders to visit and talk with us about corporate retreat activities! Get info on restaurants\, the escape room\, the virtual reality center\, private meeting spaces and specialized corporate training!
X-ALT-DESC;FMTTYPE=text/html:An open house for business managers and leaders to visit and talk with us about corporate retreat activities! Get info on restaurants\, the escape room\, the virtual reality center\, private meeting spaces and specialized corporate training!
LOCATION:the Old Bag Factory 1100 N Chicago Ave. Goshen\, IN 46528
UID:e.689.17461
SEQUENCE:3
DTSTAMP:20260424T231321Z
URL:https://business.goshen.org/events/details/corporate-retreat-open-house-17461
END:VEVENT

END:VCALENDAR
