BEGIN:VCALENDAR
VERSION:2.0
PRODID:-//ChamberMaster//Event Calendar 2.0//EN
METHOD:PUBLISH
X-PUBLISHED-TTL:P3D
REFRESH-INTERVAL:P3D
CALSCALE:GREGORIAN
BEGIN:VEVENT
DTSTART:20200505T140000Z
DTEND:20200505T150000Z
X-MICROSOFT-CDO-ALLDAYEVENT:FALSE
SUMMARY:Conversation with Congresswoman Jackie Walorski
DESCRIPTION:This event is closed to the press for reporting.\n\n\n\nWe have been able to reschedule our meeting with Congresswoman Jackie Walorski.  You will need to register to attend this member only meeting.  We only have room for 95 people to attend\, so register soon
X-ALT-DESC;FMTTYPE=text/html:<strong><u>This event is closed to the press for reporting.</u></strong><br />\n<br />\nWe have been able to reschedule our meeting with Congresswoman Jackie Walorski.&nbsp\; You will need to register to attend this member only meeting.&nbsp\; We only have room for 95 people to attend\, so register soon
LOCATION:The Virtual Chamber Office
UID:e.689.20956
SEQUENCE:3
DTSTAMP:20260422T173938Z
URL:https://business.goshen.org/events/details/conversation-with-congresswoman-jackie-walorski-20956
END:VEVENT

END:VCALENDAR
