BEGIN:VCALENDAR
VERSION:2.0
PRODID:-//ChamberMaster//Event Calendar 2.0//EN
METHOD:PUBLISH
X-PUBLISHED-TTL:P3D
REFRESH-INTERVAL:P3D
CALSCALE:GREGORIAN
BEGIN:VEVENT
DTSTART:20170309T210000Z
DTEND:20170309T223000Z
X-MICROSOFT-CDO-ALLDAYEVENT:FALSE
SUMMARY:Connect @4 - The Maples at Waterford Crossing
DESCRIPTION:Join us for the 1st Connect @4 of 2017\n\n\n\nHosted by \n\nThe Maples at Waterford Crossing\n\n\n\nNetworking\, Food\, Raffle Prizes
X-ALT-DESC;FMTTYPE=text/html:<div style="text-align: center\;"><span style="font-size:20px\;">Join us for the 1st Connect @4 of 2017<br />\n<br />\nHosted by&nbsp\;<br />\nThe Maples at Waterford Crossing<br />\n<br />\nNetworking\, Food\, Raffle Prizes</span><br />\n&nbsp\;</div>\n
LOCATION:The Residence at Waterford Crossing 1212 Waterford Circle Goshen\, IN 46526
UID:e.689.16339
SEQUENCE:3
DTSTAMP:20260425T122650Z
URL:https://business.goshen.org/events/details/connect-4-the-maples-at-waterford-crossing-16339
END:VEVENT

END:VCALENDAR
