BEGIN:VCALENDAR
VERSION:2.0
PRODID:-//ChamberMaster//Event Calendar 2.0//EN
METHOD:PUBLISH
X-PUBLISHED-TTL:P3D
REFRESH-INTERVAL:P3D
CALSCALE:GREGORIAN
BEGIN:VEVENT
DTSTART:20171012T200000Z
DTEND:20171012T220000Z
X-MICROSOFT-CDO-ALLDAYEVENT:FALSE
SUMMARY:Connect @4 - TCU
DESCRIPTION:Join us for our October Connect @4 hosted by\n\nTeacher's Credit Union\n\nJoin you fellow Chamber Members and get to know each other a little better and get a look at the newly remodeled location.
X-ALT-DESC;FMTTYPE=text/html:<div style="text-align: center\;"><span style="color: rgb(51\, 51\, 51)\; font-family: sans-serif\, Arial\, Verdana\, &quot\;Trebuchet MS&quot\;\; text-align: center\; background-color: rgb(255\, 255\, 255)\; font-size: 20px\;">Join us for our October Connect @4 hosted by<br />\nTeacher&#39\;s Credit Union<br />\nJoin you fellow Chamber Members and get to know each other a little better and get a look at the newly remodeled location.</span></div>\n
LOCATION:Teacher's Credit Union 4574 Elkhart Road Goshen\, IN 46526
UID:e.689.16362
SEQUENCE:3
DTSTAMP:20260425T004749Z
URL:https://business.goshen.org/events/details/connect-4-tcu-16362
END:VEVENT

END:VCALENDAR
