BEGIN:VCALENDAR
VERSION:2.0
PRODID:-//ChamberMaster//Event Calendar 2.0//EN
METHOD:PUBLISH
X-PUBLISHED-TTL:P3D
REFRESH-INTERVAL:P3D
CALSCALE:GREGORIAN
BEGIN:VEVENT
DTSTART:20181011T200000Z
DTEND:20181011T213000Z
X-MICROSOFT-CDO-ALLDAYEVENT:FALSE
SUMMARY:Connect @4 - Laser Accents\, Inc.
DESCRIPTION:Please join us for our last Connect @4 for the 2018 year!\n\nHosted by:\n\n\n\nLaser Accents\, Inc.\n\nCome and see what Laser Accents is all about!\n\n\n\nLaser Accents has been locally owned and operated for 31 years.\n\nBesides engraved awards and personalized gifts\, Laser Accents also makes badges\, nameplates and tags for electrical and industrial applications. \n\n\n\nCome and network with fellow chamber member!
X-ALT-DESC;FMTTYPE=text/html:<div style="text-align: center\;"><span style="font-size:22px\;">Please join us for our last Connect @4 for the 2018 year!<br />\nHosted by:<br />\n<br />\nLaser Accents\, Inc.<br />\nCome and see what Laser Accents is all about!</span><br />\n<br />\n<span style="font-size:12.0pt\;">Laser Accents has been locally owned and operated for 31 years.</span><br />\n<span style="font-size:12.0pt\;">Besides engraved awards and personalized gifts\, Laser Accents also makes badges\, nameplates and tags for electrical and industrial applications. </span><br />\n<br />\n<span style="font-size:22px\;">Come and network with fellow chamber member!</span></div>\n
LOCATION:Laser Accents\, Inc. 929 Lincolnway East\, US 33 Goshen\, IN 46526
UID:e.689.17891
SEQUENCE:3
DTSTAMP:20260424T023744Z
URL:https://business.goshen.org/events/details/connect-4-laser-accents-inc-17891
END:VEVENT

END:VCALENDAR
