BEGIN:VCALENDAR
VERSION:2.0
PRODID:-//ChamberMaster//Event Calendar 2.0//EN
METHOD:PUBLISH
X-PUBLISHED-TTL:P3D
REFRESH-INTERVAL:P3D
CALSCALE:GREGORIAN
BEGIN:VEVENT
DTSTART:20190711T200000Z
DTEND:20190711T213000Z
X-MICROSOFT-CDO-ALLDAYEVENT:FALSE
SUMMARY:Connect @ 4 - Hosted by Planet Fitness Goshen
DESCRIPTION:Our Summer Connect @ 4 Hosted by Planet Fitness Goshen\n\n\n\nJoin us on Thursday\, July 11th\, 2019 from 4:00pm - 5:30pm for our Summer Connect @ 4!\n\nPlanet Fitness will have tours\, games and give-a-ways!
X-ALT-DESC;FMTTYPE=text/html:<div style="text-align: center\;"><span style="font-size:22px\;">Our Summer Connect @ 4 Hosted by Planet Fitness Goshen<br />\n<br />\nJoin us on Thursday\, July 11th\, 2019 from 4:00pm - 5:30pm for our Summer Connect @ 4!<br />\nPlanet Fitness will have tours\, games and give-a-ways!</span><br />\n&nbsp\;</div>\n
LOCATION:Planet Fitness Goshen 2616 Peddlers Village Goshen\, IN 46526
UID:e.689.18532
SEQUENCE:3
DTSTAMP:20260423T110246Z
URL:https://business.goshen.org/events/details/connect-4-hosted-by-planet-fitness-goshen-18532
END:VEVENT

END:VCALENDAR
