BEGIN:VCALENDAR
VERSION:2.0
PRODID:-//ChamberMaster//Event Calendar 2.0//EN
METHOD:PUBLISH
X-PUBLISHED-TTL:P3D
REFRESH-INTERVAL:P3D
CALSCALE:GREGORIAN
BEGIN:VEVENT
DTSTART:20180712T200000Z
DTEND:20180712T213000Z
X-MICROSOFT-CDO-ALLDAYEVENT:FALSE
SUMMARY:Connect @4-Hosted by Pet Supply Plus
DESCRIPTION:Scott Evans and his crew would like to invite you to come and network with your fellow chamber members at Pet Supplies Plus.  Come take a look at all the new items your furry friends will love!
X-ALT-DESC;FMTTYPE=text/html:<div style="text-align: center\;"><span style="color:#333333\;"><span style="font-family:arial\,sans-serif\;"><span style="font-size:10.0pt\;">Scott Evans and his crew would like to invite you to come and network with your fellow chamber members at Pet Supplies Plus.&nbsp\; Come take a look at all the new items your furry friends will love!&nbsp\;&nbsp\;</span></span></span></div>\n
LOCATION:Pet Supplies Plus 4024-27 Elkhart Road (Market Centre Plaza) Goshen\, IN 46526
UID:e.689.17823
SEQUENCE:3
DTSTAMP:20260424T092451Z
URL:https://business.goshen.org/events/details/connect-4-hosted-by-pet-supply-plus-17823
END:VEVENT

END:VCALENDAR
