BEGIN:VCALENDAR
VERSION:2.0
PRODID:-//ChamberMaster//Event Calendar 2.0//EN
METHOD:PUBLISH
X-PUBLISHED-TTL:P3D
REFRESH-INTERVAL:P3D
CALSCALE:GREGORIAN
BEGIN:VEVENT
DTSTART:20190307T210000Z
DTEND:20190307T223000Z
X-MICROSOFT-CDO-ALLDAYEVENT:FALSE
SUMMARY:Connect @ 4 - Hosted by Nuway Construction
DESCRIPTION:Connect @4 Hosted by Nuway Construction\n \n\nKick-Off March Madness with Nuway. Come meet the new owners\,\n\ncheck out the Nuway VR (Virtual Reality) Experience\n\nand a free-throw contest\, alot to see and do!\n\nJoin us for our 1st Connect @4 in 2019!
X-ALT-DESC;FMTTYPE=text/html:<div style="text-align: center\;"><span style="font-size:20px\;">Connect @4 Hosted by Nuway Construction</span></div>\n&nbsp\;\n\n<div style="text-align: center\;"><span style="font-size:20px\;">Kick-Off March Madness with Nuway. Come meet the new owners\,<br />\ncheck out the Nuway VR (Virtual Reality) Experience<br />\nand a free-throw contest\, alot to see and do!<br />\nJoin us for our 1st Connect @4 in 2019!</span></div>\n
LOCATION:Nuway Construction 2119 Carmen Court Goshen\, IN
UID:e.689.18521
SEQUENCE:3
DTSTAMP:20260423T194251Z
URL:https://business.goshen.org/events/details/connect-4-hosted-by-nuway-construction-18521
END:VEVENT

END:VCALENDAR
