BEGIN:VCALENDAR
VERSION:2.0
PRODID:-//ChamberMaster//Event Calendar 2.0//EN
METHOD:PUBLISH
X-PUBLISHED-TTL:P3D
REFRESH-INTERVAL:P3D
CALSCALE:GREGORIAN
BEGIN:VEVENT
DTSTART:20180301T210000Z
DTEND:20180301T223000Z
X-MICROSOFT-CDO-ALLDAYEVENT:FALSE
SUMMARY:Connect @4 Hosted by MutualBank- MutualBank March Madness
DESCRIPTION:Let's Kickoff March Madness with\n\nConnect @4 \n\nHosted by MutualBank\n\n \n\nMutualBank March Madness:\n\n\n	    Come Celebrate with MutualBank for their 10 Year Anniversary at the  Goshen Location\n	    Come and get excited about basketball month with memorabilia from the 1988 Concord High School Boy's Basketball run to the State Finals\n	    Enjoy "Gameday" food catered by Martin's Super Market\, Shirley's Gourmet Popcorn\, and The Electric Brew    \n	    Come network with other chamber member!\n\n\n\n\nAlso new this year at Connect @ 4\, challenge another Chamber member to rule the grid in a Connect 4 Classic Grid\, a game where strategy drives the competition!  Line 'em up and go for the win!
X-ALT-DESC;FMTTYPE=text/html:<div style="text-align: center\;"><strong><span style="font-size:16px\;"><span style="font-size:18px\;">Let&#39\;s Kickoff March Madness with<br />\nConnect @4 </span><br />\nHosted by MutualBank</span></strong></div>\n\n<div style="text-align: center\;"><strong><span style="font-size:16px\;">&#8203\;</span></strong></div>\n\n<div><strong><span style="font-size:18px\;">MutualBank March Madness:</span></strong></div>\n\n<ul>\n	<li>&nbsp\;&nbsp\;&nbsp\;<span style="font-size:16px\;"> Come Celebrate with MutualBank for their 10 Year Anniversary at the&nbsp\; Goshen Location</span></li>\n	<li><span style="font-size:16px\;">&nbsp\;&nbsp\;&nbsp\; Come and get excited about basketball month with memorabilia from the 1988 Concord High School Boy&#39\;s Basketball run to the State Finals</span></li>\n	<li><span style="font-size:16px\;">&nbsp\;&nbsp\;&nbsp\; Enjoy &quot\;Gameday&quot\; food catered by Martin&#39\;s Super Market\, Shirley&#39\;s Gourmet Popcorn\, and The Electric Brew&nbsp\;&nbsp\;&nbsp\; </span></li>\n	<li><span style="font-size:16px\;">&nbsp\;&nbsp\;&nbsp\;&nbsp\;Come network with other chamber member!</span></li>\n</ul>\n\n<div style="text-align: center\;"><br />\n<strong><span style="font-size:16px\;">Also new this year at Connect @ 4\, challenge another Chamber member to rule the grid in a Connect 4 Classic Grid\, a game where strategy drives the competition!&nbsp\; Line &#39\;em up and go for the win!</span></strong><br />\n&nbsp\;</div>\n
LOCATION:MutualBank 4330 Elkhart Road Goshen\, IN 46526
UID:e.689.17699
SEQUENCE:3
DTSTAMP:20260424T185154Z
URL:https://business.goshen.org/events/details/connect-4-hosted-by-mutualbank-mutualbank-march-madness-17699
END:VEVENT

END:VCALENDAR
