BEGIN:VCALENDAR
VERSION:2.0
PRODID:-//ChamberMaster//Event Calendar 2.0//EN
METHOD:PUBLISH
X-PUBLISHED-TTL:P3D
REFRESH-INTERVAL:P3D
CALSCALE:GREGORIAN
BEGIN:VEVENT
DTSTART:20180517T200000Z
DTEND:20180517T213000Z
X-MICROSOFT-CDO-ALLDAYEVENT:FALSE
SUMMARY:Connect @4 - Hosted by Goshen College
DESCRIPTION:Have you ever wanted to go behind the scenes and see where the Performing Arts Series performers hang out? On May 17th\, at 4:00 PM you are invited to join us at the Goshen College Music Center for refreshments and an informative presentation.  During your time at the GC Music Center\, you will get a sense for what goes on backstage as well as learn about this wonderful community facility.  You will come away with an understanding of the many ways the Music Center and its programs reach into our community to impact the quality of life for Goshen and beyond.  We look forward to your visit with us.
X-ALT-DESC;FMTTYPE=text/html:<div style="text-align: center\;"><strong>Have you ever wanted to go behind the scenes and see where the Performing Arts Series performers hang out? On May 17th\, at 4:00 PM you are invited to join us at the Goshen College Music Center for refreshments and an informative presentation.&nbsp\; During your time at the GC Music Center\, you will get a sense for what goes on backstage as well as learn about this wonderful community facility.&nbsp\; You will come&nbsp\;away with an understanding of the many ways the Music Center and its programs reach into our community to impact the quality of life for Goshen and beyond.&nbsp\; We look forward to your visit with us.</strong></div>\n
LOCATION:Goshen College Music Center 1700 South Main Street Goshen\, IN 46526
UID:e.689.17774
SEQUENCE:3
DTSTAMP:20260424T134134Z
URL:https://business.goshen.org/events/details/connect-4-hosted-by-goshen-college-17774
END:VEVENT

END:VCALENDAR
