BEGIN:VCALENDAR
VERSION:2.0
PRODID:-//ChamberMaster//Event Calendar 2.0//EN
METHOD:PUBLISH
X-PUBLISHED-TTL:P3D
REFRESH-INTERVAL:P3D
CALSCALE:GREGORIAN
BEGIN:VEVENT
DTSTART:20160519T200000Z
DTEND:20160519T220000Z
X-MICROSOFT-CDO-ALLDAYEVENT:FALSE
SUMMARY:Connect @4 Hosted by EBY Ford Lincoln
DESCRIPTION:Join us for our Connect @4\n\nHosted by EBY Ford Lincoln\n\nNetwork with other Chamber Members\, Check out some great cars\, and enjoys some refreshments!
X-ALT-DESC;FMTTYPE=text/html:<div style="text-align: center\;"><span style="font-size: 20px\;">Join us for our Connect @4<br />\nHosted by EBY Ford Lincoln<br />\nNetwork with other Chamber Members\, Check out some great cars\, and enjoys some refreshments!</span></div>\n
LOCATION:Eby Ford Lincoln 2714 Elkhart Road Goshen\, IN
UID:e.689.15177
SEQUENCE:3
DTSTAMP:20260426T035712Z
URL:https://business.goshen.org/events/details/connect-4-hosted-by-eby-ford-lincoln-05-19-2016-15177
END:VEVENT

END:VCALENDAR
