BEGIN:VCALENDAR
VERSION:2.0
PRODID:-//ChamberMaster//Event Calendar 2.0//EN
METHOD:PUBLISH
X-PUBLISHED-TTL:P3D
REFRESH-INTERVAL:P3D
CALSCALE:GREGORIAN
BEGIN:VEVENT
DTSTART:20170420T200000Z
DTEND:20170420T213000Z
X-MICROSOFT-CDO-ALLDAYEVENT:FALSE
SUMMARY:Connect @4 Chemical Bank
DESCRIPTION:100 Years of Creating Community Chemistry\n\nSince 1917\, we've been a leading community bank\, helping communities grow and thrive.\n\nWe're proud to be celebrating our 100th Anniversary! \n\n\n\nJoin us for Chemical Banks celebration
X-ALT-DESC;FMTTYPE=text/html:<div style="text-align: center\;">\n<div class="perc-region perc-region-leaf perc-fixed perc-vertical callout no-topmargin " data-noautoresize="false" id="callout" style="box-sizing: border-box\; margin: 0px\; min-height: 0px\; max-width: 880px\; padding: 0px 29px\; -webkit-font-smoothing: antialiased\; text-rendering: optimizeLegibility\; text-shadow: rgb(0\, 0\, 0) 0px 0px 6px\; position: relative\; font-size: 25px\; line-height: 1.2\; color: rgb(255\, 255\, 255)\; font-family: &quot\;Gotham Light&quot\;\, sans-serif\; letter-spacing: 0.48px\; background-color: rgb(39\, 106\, 59)\;">\n<div class="perc-vertical " style="box-sizing: border-box\; margin: 0px\;">\n<div class="perc-widget" style="box-sizing: border-box\; margin: 0px\;">\n<div style="box-sizing: border-box\; margin: 0px\;">\n<div class="rxbodyfield" style="box-sizing: border-box\; margin: 0px\;">\n<h1 style="box-sizing: border-box\; margin: 0px 0px -6px\; font-size: 60px\; font-family: &quot\;Gotham Bold&quot\;\, sans-serif\; font-weight: 400\; line-height: 1.1\; color: inherit\; letter-spacing: 0px\; text-shadow: rgb(68\, 68\, 68) 0px 0px 11px\;">100 Years of Creating Community Chemistry</h1>\n\n<p style="box-sizing: border-box\; margin: 24px 0px\;">Since 1917\, we&rsquo\;ve been a&nbsp\;leading community bank\, helping communities grow and thrive.</p>\n\n<p style="box-sizing: border-box\; margin: 24px 0px\;">We&#39\;re proud to be celebrating our 100th Anniversary!&nbsp\;<br />\n<br />\nJoin us for Chemical Banks celebration&nbsp\;</p>\n</div>\n</div>\n</div>\n</div>\n</div>\n</div>\n
LOCATION:Chemical Bank 511 West Lincoln Avenue Goshen\, IN
UID:e.689.16676
SEQUENCE:3
DTSTAMP:20260425T122521Z
URL:https://business.goshen.org/events/details/connect-4-chemical-bank-16676
END:VEVENT

END:VCALENDAR
