BEGIN:VCALENDAR
VERSION:2.0
PRODID:-//ChamberMaster//Event Calendar 2.0//EN
METHOD:PUBLISH
X-PUBLISHED-TTL:P3D
REFRESH-INTERVAL:P3D
CALSCALE:GREGORIAN
BEGIN:VEVENT
DTSTART:20161012T200000Z
DTEND:20161012T213000Z
X-MICROSOFT-CDO-ALLDAYEVENT:FALSE
SUMMARY:Connect @4 hosted by Stutsman Dentistry
DESCRIPTION:This network event is sure to leave a smile on your face!  Join us and Connect with your fellow Chamber Members at Stutsman Dentistry.  Drs. Chad and Danielle Stutsman will be our host for the last Connect @ 4 of the year.  Connect @ 4 is the Goshen Chamber's premier networking event\, a place to connect and grow your personal and professional connections.
X-ALT-DESC;FMTTYPE=text/html:This network event is sure to leave a smile on your face!&nbsp\; Join us and Connect with your fellow Chamber Members at Stutsman Dentistry.&nbsp\; Drs. Chad and Danielle Stutsman will be our host for the last Connect @ 4 of the year.&nbsp\; Connect @ 4 is the Goshen Chamber&#39\;s premier networking event\, a place to connect and grow your personal and professional connections.
LOCATION:Stutsman Dentistry 1801 Charlton Ct. Goshen\, IN 46526
UID:e.689.15191
SEQUENCE:3
DTSTAMP:20260425T202429Z
URL:https://business.goshen.org/events/details/connect-4-10-12-2016-15191
END:VEVENT

END:VCALENDAR
