BEGIN:VCALENDAR
VERSION:2.0
PRODID:-//ChamberMaster//Event Calendar 2.0//EN
METHOD:PUBLISH
X-PUBLISHED-TTL:P3D
REFRESH-INTERVAL:P3D
CALSCALE:GREGORIAN
BEGIN:VEVENT
DTSTART:20211018T140000Z
DTEND:20211018T160000Z
X-MICROSOFT-CDO-ALLDAYEVENT:FALSE
SUMMARY:Congresswoman Jackie Walorski Representative Staff Office Hours
DESCRIPTION:Need help with a federal agency?  My staff will hold office hours at locations throughout Indiana's 2nd District this month and assist with federal agency casework and other official business.  Residents who cannot attend the listed office hours should call (574) 204-2645 to schedule an appointment.
X-ALT-DESC;FMTTYPE=text/html:Need help with a federal agency?&nbsp\; My staff will hold office hours at locations throughout Indiana&#39\;s 2nd District this month and assist with federal agency casework and other official business.&nbsp\; Residents who cannot attend the listed office hours should call (574) 204-2645 to schedule an appointment.
LOCATION:Goshen Chamber of Commerce Building 232 S. Main Street Goshen\, IN
UID:e.689.22641
SEQUENCE:3
DTSTAMP:20260421T132312Z
URL:https://business.goshen.org/events/details/congresswoman-jackie-walorski-representative-staff-office-hours-10-18-2021-22641
END:VEVENT

END:VCALENDAR
