BEGIN:VCALENDAR
VERSION:2.0
PRODID:-//ChamberMaster//Event Calendar 2.0//EN
METHOD:PUBLISH
X-PUBLISHED-TTL:P3D
REFRESH-INTERVAL:P3D
CALSCALE:GREGORIAN
BEGIN:VEVENT
DTSTART:20160510T190000Z
DTEND:20160510T200000Z
X-MICROSOFT-CDO-ALLDAYEVENT:FALSE
SUMMARY:Computing for Seniors Class
DESCRIPTION:This hands on class will offer the how-to?s for using social media to keep family and friends closer\, community engagement and more. Computing for Seniors offers introductory classes in basic computer usage\, internet browsers and email\, starting and using Facebook\, using Skype to video chat with family and friends\, and internet security and safety. Classes will meet on Tuesdays\, April 19-May 17 from 3-4pm at the Schrock Pavilion in Shanklin Park. Computers are provided for use during class. Classes are free\, but pre-registration is required. Please contact the Goshen Parks and Recreation Department to register or for further details\, 534-2901. Class size is limited to 10 participants.
X-ALT-DESC;FMTTYPE=text/html:This hands on class will offer the how-to?s for using social media to keep family and friends closer\, community engagement and more. Computing for Seniors offers introductory classes in basic computer usage\, internet browsers and email\, starting and using Facebook\, using Skype to video chat with family and friends\, and internet security and safety. Classes will meet on Tuesdays\, April 19-May 17 from 3-4pm at the Schrock Pavilion in Shanklin Park. Computers are provided for use during class. Classes are free\, but pre-registration is required. Please contact the Goshen Parks and Recreation Department to register or for further details\, 534-2901. Class size is limited to 10 participants.
LOCATION:Schrock Pavilion in Shanklin Park
UID:e.689.15841
SEQUENCE:3
DTSTAMP:20260426T035254Z
URL:https://business.goshen.org/events/details/computing-for-seniors-class-05-10-2016-15841
END:VEVENT

END:VCALENDAR
