BEGIN:VCALENDAR
VERSION:2.0
PRODID:-//ChamberMaster//Event Calendar 2.0//EN
METHOD:PUBLISH
X-PUBLISHED-TTL:P3D
REFRESH-INTERVAL:P3D
CALSCALE:GREGORIAN
BEGIN:VEVENT
DTSTART:20180616T120000Z
DTEND:20180616T160000Z
X-MICROSOFT-CDO-ALLDAYEVENT:FALSE
SUMMARY:Community Yard Sale!
DESCRIPTION:SATURDAY\, \n\n			June 16th     \n\n			8AM-noon\n\n			community yard sale\n			Join us to help raise funds for Independence from Hunger!\n			 \n\n			\n				The Electric Brew will be to serve coffee and snacks for the early risers!\n			\n			 \n\n			\n				All participants should expect to bring in your items\, price them\, and be present at your table from 8-Noon. (Waterford Crossing is not responsible for missing items or tables left unattended)\n			\n			 \n\n			\n				Tables rent for $20\, all proceeds benefit The Window Inc. and contribute to our Independence from Hunger goal \n			\n			 \n\n			\n				Join us for a fun and easy way to kick off our Independence from Hunger Campaign for 2018!\n			\n			\n			\n			\n			$20 table fee\n\n			    \n\n			Table Fee proceeds benefit The Window Inc.\n\n			    \n\n			Coffee and Snacks available\n\n			    \n\n			Raffle Prizes for participants\n\n			    \n\n			 \n			\n\n			\n			Waterford crossing \n			1212 Waterford Cir.\n\n			Goshen\, IN 46526\n\n			\n\n			(574) 534-3920\n\n			\n\n			waterfordcrossingsl.com\n\n			\n\n			Saturday June 16th\n\n			from 8AM-Noon
X-ALT-DESC;FMTTYPE=text/html:<div style="text-align: center\;">\n<table border="0" cellpadding="0" cellspacing="0" style="border-collapse:collapse\;border:none\;" summary="Table for overall flyer layout" width="100%">\n	<thead>\n		<tr style="height:960px\;">\n			<th style="width:492px\;padding:0in .2in 0in 0in\;height:960px\;vertical-align:top\;"><br />\n			<span style="font-size:36.0pt\;">SATURDAY\, </span><br />\n			<span style="font-size:36.0pt\;">June 16<sup>th</sup> &nbsp\;&nbsp\;&nbsp\;&nbsp\;</span><br />\n			<span style="font-size:36.0pt\;">8AM-noon</span><br />\n			<span style="font-size:36.0pt\;">community yard sale</span>\n			<h1>Join us to help raise funds for Independence from Hunger!</h1>\n			&nbsp\;\n\n			<ul>\n				<li style="margin-bottom:0in\;margin-bottom:.0001pt\;">The Electric Brew will be to serve coffee and snacks for the early risers!</li>\n			</ul>\n			&nbsp\;\n\n			<ul>\n				<li style="margin-bottom:0in\;margin-bottom:.0001pt\;">All participants should expect to bring in your items\, price them\, and be present at your table from 8-Noon. (Waterford Crossing is not responsible for missing items or tables left unattended)</li>\n			</ul>\n			&nbsp\;\n\n			<ul>\n				<li style="margin-bottom:0in\;margin-bottom:.0001pt\;">Tables rent for $20\, all proceeds benefit The Window Inc. and contribute to our Independence from Hunger goal&nbsp\;</li>\n			</ul>\n			&nbsp\;\n\n			<ul>\n				<li style="margin-bottom:0in\;margin-bottom:.0001pt\;">Join us for a fun and easy way to kick off our Independence from Hunger Campaign for 2018!</li>\n			</ul>\n			</th>\n			<th style="width:228px\;padding:0in 0in 0in 0in\;height:960px\;vertical-align:top\;">\n			<div style="border:solid #4B651C 1.0pt\;padding:31.0pt 12.0pt 31.0pt 12.0pt\;background:#4B651C\;margin-left:.2in\;margin-right:.2in\;">\n			<h2 style="margin-top:0in\;margin-right:0in\;margin-bottom:10.0pt\;margin-left:0in\;background:#4B651C\;">$20 table fee</h2>\n\n			<h2 style="margin-top:0in\;margin-right:0in\;margin-bottom:10.0pt\;margin-left:0in\;background:#4B651C\;">&#9472\;&#9472\;&#9472\;&#9472\;</h2>\n\n			<h2 style="margin-top:0in\;margin-right:0in\;margin-bottom:10.0pt\;margin-left:0in\;background:#4B651C\;">Table Fee proceeds benefit The Window Inc.</h2>\n\n			<h2 style="margin-top:0in\;margin-right:0in\;margin-bottom:10.0pt\;margin-left:0in\;background:#4B651C\;">&#9472\;&#9472\;&#9472\;&#9472\;</h2>\n\n			<h2 style="margin-top:0in\;margin-right:0in\;margin-bottom:10.0pt\;margin-left:0in\;background:#4B651C\;">Coffee and Snacks available</h2>\n\n			<h2 style="margin-top:0in\;margin-right:0in\;margin-bottom:10.0pt\;margin-left:0in\;background:#4B651C\;">&#9472\;&#9472\;&#9472\;&#9472\;</h2>\n\n			<h2 style="margin-top:0in\;margin-right:0in\;margin-bottom:10.0pt\;margin-left:0in\;background:#4B651C\;">Raffle Prizes for participants</h2>\n\n			<h2 style="margin-top:0in\;margin-right:0in\;margin-bottom:10.0pt\;margin-left:0in\;background:#4B651C\;">&#9472\;&#9472\;&#9472\;&#9472\;</h2>\n\n			<h2 style="margin-top:0in\;margin-right:0in\;margin-bottom:10.0pt\;margin-left:0in\;background:#4B651C\;">&nbsp\;</h2>\n			</div>\n\n			<div style="border:solid #B11A57 1.0pt\;padding:16.0pt 12.0pt 16.0pt 12.0pt\;background:#B11A57\;margin-left:.1in\;margin-right:.1in\;">\n			<h3 style="margin-top:0in\;margin-right:0in\;margin-bottom:3.0pt\;margin-left:0in\;background:#B11A57\;"><span style="font-size:14.0pt\;">Waterford crossing </span></h3>\n			1212 Waterford Cir.<br />\n			Goshen\, IN 46526<br />\n			<br />\n			(574) 534-3920<br />\n			<br />\n			waterfordcrossingsl.com<br />\n			<br />\n			Saturday June 16th<br />\n			from 8AM-Noon<br />\n			<br />\n			<br />\n			&nbsp\;</div>\n			</th>\n		</tr>\n	</thead>\n</table>\n</div>\n
LOCATION:Waterford Crossing 1212 Waterford Cir. Goshen\, IN 46526
UID:e.689.17843
SEQUENCE:3
DTSTAMP:20260424T113418Z
URL:https://business.goshen.org/events/details/community-yard-sale-17843
END:VEVENT

END:VCALENDAR
