BEGIN:VCALENDAR
VERSION:2.0
PRODID:-//ChamberMaster//Event Calendar 2.0//EN
METHOD:PUBLISH
X-PUBLISHED-TTL:P3D
REFRESH-INTERVAL:P3D
CALSCALE:GREGORIAN
BEGIN:VEVENT
DTSTART:20171005T103000Z
DTEND:20171005T123000Z
X-MICROSOFT-CDO-ALLDAYEVENT:FALSE
SUMMARY:COMMUNITY SCREENING DAY
DESCRIPTION:DO IT FOR YOU.DO IT FOR LIFE. FREE SCREENINGS/ASSESSMENTS Balance and joint screening Blood pressure\, pulse and blood oxygen level Body mass index Bone density heel scan Breast cancer risk assessment Carbon monoxide check Colon health risk assessment Diabetes risk assessment Diabetic foot screening Fitness assessment Memory screening Skin cancer risk screening Sleep disorders risk assessment Voice analysis SCREENINGS WITH A NOMINAL FEE* Cholesterol screening (fasting)   $20 Echocardiogram screening   $25 Vascular screening   $50 *Must register and pre-pay by October 4 to guarantee appointment. To register\, please call (877) 566-4660 or visit GoshenHealth.com/Find-Events.
X-ALT-DESC;FMTTYPE=text/html:DO IT FOR YOU.DO IT FOR LIFE. FREE SCREENINGS/ASSESSMENTS Balance and joint screening Blood pressure\, pulse and blood oxygen level Body mass index Bone density heel scan Breast cancer risk assessment Carbon monoxide check Colon health risk assessment Diabetes risk assessment Diabetic foot screening Fitness assessment Memory screening Skin cancer risk screening Sleep disorders risk assessment Voice analysis SCREENINGS WITH A NOMINAL FEE* Cholesterol screening (fasting) &ndash\; $20 Echocardiogram screening &ndash\; $25 Vascular screening &ndash\; $50 *Must register and pre-pay by October 4 to guarantee appointment. To register\, please call (877) 566-4660 or visit GoshenHealth.com/Find-Events.
LOCATION:Goshen Hospital\, Arbor Conference Center 200 High Park Ave.\, Goshen\, IN 46526
UID:e.689.16974
SEQUENCE:3
DTSTAMP:20260425T004750Z
URL:https://business.goshen.org/events/details/community-screening-day-16974
END:VEVENT

END:VCALENDAR
