BEGIN:VCALENDAR
VERSION:2.0
PRODID:-//ChamberMaster//Event Calendar 2.0//EN
METHOD:PUBLISH
X-PUBLISHED-TTL:P3D
REFRESH-INTERVAL:P3D
CALSCALE:GREGORIAN
BEGIN:VEVENT
DTSTART:20170414T110000Z
DTEND:20170414T200000Z
X-MICROSOFT-CDO-ALLDAYEVENT:FALSE
SUMMARY:Community Gardening
DESCRIPTION:What is a Community Garden? A piece of land gardened by a group of people. Get involved to grow your own vegetables\, flowers and community at Hay Park's or Allan J. Kauffman Park's Community Garden! For more information\, contact the Parks Department at 534-2901.
X-ALT-DESC;FMTTYPE=text/html:What is a Community Garden? A piece of land gardened by a group of people. Get involved to grow your own vegetables\, flowers and community at Hay Park&rsquo\;s or Allan J. Kauffman Park&rsquo\;s Community Garden! For more information\, contact the Parks Department at 534-2901.
LOCATION:
UID:e.689.16612
SEQUENCE:3
DTSTAMP:20260425T103949Z
URL:https://business.goshen.org/events/details/community-gardening-16612
END:VEVENT

END:VCALENDAR
