BEGIN:VCALENDAR
VERSION:2.0
PRODID:-//ChamberMaster//Event Calendar 2.0//EN
METHOD:PUBLISH
X-PUBLISHED-TTL:P3D
REFRESH-INTERVAL:P3D
CALSCALE:GREGORIAN
BEGIN:VEVENT
DTSTART:20210626T130000Z
DTEND:20210626T150000Z
X-MICROSOFT-CDO-ALLDAYEVENT:FALSE
SUMMARY:Colors For Kids Family Fun Run & Walk
DESCRIPTION:The untimed event\, geared toward families and social groups\, will take place Saturday\, June 26 at 9 a.m. in downtown Elkhart's Central Park. Participants experience different "colors" at stations along the 5K route beginning at Central Park on Waterfall Drive at High Street. Proceeds benefit Boys & Girls Clubs of Elkhart County.
X-ALT-DESC;FMTTYPE=text/html:The untimed event\, geared toward families and social groups\, will take place Saturday\, June 26 at 9 a.m. in downtown Elkhart&rsquo\;s Central Park. Participants experience different &ldquo\;colors&rdquo\; at stations along the 5K route beginning at Central Park on Waterfall Drive at High Street. Proceeds benefit Boys &amp\; Girls Clubs of Elkhart County.&nbsp\;<br />\n&nbsp\;
LOCATION:Central Park\, downtown Elkhart
UID:e.689.21966
SEQUENCE:3
DTSTAMP:20260421T202110Z
URL:https://business.goshen.org/events/details/colors-for-kids-family-fun-run-walk-21966
END:VEVENT

END:VCALENDAR
