BEGIN:VCALENDAR
VERSION:2.0
PRODID:-//ChamberMaster//Event Calendar 2.0//EN
METHOD:PUBLISH
X-PUBLISHED-TTL:P3D
REFRESH-INTERVAL:P3D
CALSCALE:GREGORIAN
BEGIN:VEVENT
DTSTART:20211002T143000Z
DTEND:20211002T163000Z
X-MICROSOFT-CDO-ALLDAYEVENT:FALSE
SUMMARY:Collage on Canvas Workshop
DESCRIPTION:Come and enjoy creating an explosion of colors and textures with paper collage. Students will use basic shapes to put together and create their own one of a kind paper collage creations. They will learn about composition and color while also enjoying the thrill of tearing paper\, using mod podge\, and making their own unique color and pattern choices.\n\n\n\nRecommend age - 7 to 10+ years. All materials provided.\n\n\n\nSign up for the workshop at www.theimaginationspot.com or in person at The Imagination Spot in downtown Goshen.
X-ALT-DESC;FMTTYPE=text/html:Come and enjoy creating an explosion of colors and textures with paper collage. Students will use basic shapes to put together and create their own one of a kind paper collage creations. They will learn about composition and color while also enjoying the thrill of tearing paper\, using mod podge\, and making their own unique color and pattern choices.<br />\n<br />\nRecommend age - 7 to 10+ years. All materials provided.<br />\n<br />\nSign up for the workshop at www.theimaginationspot.com or in person at The Imagination Spot in downtown Goshen.
LOCATION:The Imagination Spot\, 111 E Washington St. Goshen\, IN 46528
UID:e.689.22659
SEQUENCE:3
DTSTAMP:20260421T005554Z
URL:https://business.goshen.org/events/details/collage-on-canvas-workshop-22659
END:VEVENT

END:VCALENDAR
