BEGIN:VCALENDAR
VERSION:2.0
PRODID:-//ChamberMaster//Event Calendar 2.0//EN
METHOD:PUBLISH
X-PUBLISHED-TTL:P3D
REFRESH-INTERVAL:P3D
CALSCALE:GREGORIAN
BEGIN:VEVENT
DTSTART:20161107T230000Z
DTEND:20161108T020000Z
X-MICROSOFT-CDO-ALLDAYEVENT:FALSE
SUMMARY:Co-ed Volleyball League
DESCRIPTION:This indoor league guarantees a minimum of eight games and an end of season tournament. Games will be played in a Goshen Community Schools gymnasium\, to be announced. There is a four-team minimum and an eight-team maximum for each skill level. League will be conducted the week of November 7 through February 24 (no games when gymnasiums are closed for school holidays and/or special events). Registration is currently being accepted at the Goshen Parks & Recreation Office through October 14 or until league is full. Cost is $275 per team. A mandatory team manager meeting will be scheduled upon the close of registration. Contact Frank\, 534-6723\, with any questions. Mondays "B/BB": Intermediate\, moderate to high skill level by players/teams. Players will be able to bump\, set and spike well. Teams may use multiple offensive and defensive strategies and may attempt to double block. Tuesdays "C/D": Recreational teams with average to less-skilled players who want social activity\, fun and exercise. Wednesdays "B/BB": Intermediate\, moderate to high skill level by players/teams. Players will be able to bump\, set and spike well. Teams may use multiple offensive and defensive strategies and may attempt to double block. Thursdays "A/AA": Players/teams with competitive\, highly skilled and powersetting ability\, along with strong knowledge of running offensive volleyball plays.
X-ALT-DESC;FMTTYPE=text/html:This indoor league guarantees a minimum of eight games and an end of season tournament. Games will be played in a Goshen Community Schools gymnasium\, to be announced. There is a four-team minimum and an eight-team maximum for each skill level. League will be conducted the week of November 7 through February 24 (no games when gymnasiums are closed for school holidays and/or special events). Registration is currently being accepted at the Goshen Parks &amp\; Recreation Office through October 14 or until league is full. Cost is $275 per team. A mandatory team manager meeting will be scheduled upon the close of registration. Contact Frank\, 534-6723\, with any questions. Mondays &ldquo\;B/BB&rdquo\;: Intermediate\, moderate to high skill level by players/teams. Players will be able to bump\, set and spike well. Teams may use multiple offensive and defensive strategies and may attempt to double block. Tuesdays &ldquo\;C/D&rdquo\;: Recreational teams with average to less-skilled players who want social activity\, fun and exercise. Wednesdays &ldquo\;B/BB&rdquo\;: Intermediate\, moderate to high skill level by players/teams. Players will be able to bump\, set and spike well. Teams may use multiple offensive and defensive strategies and may attempt to double block. Thursdays &ldquo\;A/AA&rdquo\;: Players/teams with competitive\, highly skilled and powersetting ability\, along with strong knowledge of running offensive volleyball plays.
LOCATION:A Goshen Community Schools gymnasium\, to be announced.
UID:e.689.16188
SEQUENCE:3
DTSTAMP:20260425T190145Z
URL:https://business.goshen.org/events/details/co-ed-volleyball-league-16188
END:VEVENT

END:VCALENDAR
