BEGIN:VCALENDAR
VERSION:2.0
PRODID:-//ChamberMaster//Event Calendar 2.0//EN
METHOD:PUBLISH
X-PUBLISHED-TTL:P3D
REFRESH-INTERVAL:P3D
CALSCALE:GREGORIAN
BEGIN:VEVENT
DTSTART:20171208T200000Z
DTEND:20171208T220000Z
X-MICROSOFT-CDO-ALLDAYEVENT:FALSE
SUMMARY:City of Goshen -Non Profit Board Work
DESCRIPTION:
X-ALT-DESC;FMTTYPE=text/html:
LOCATION:
UID:e.689.17460
SEQUENCE:3
DTSTAMP:20260424T231827Z
URL:https://business.goshen.org/events/details/city-of-goshen-non-profit-board-work-17460
END:VEVENT

END:VCALENDAR
