BEGIN:VCALENDAR
VERSION:2.0
PRODID:-//ChamberMaster//Event Calendar 2.0//EN
METHOD:PUBLISH
X-PUBLISHED-TTL:P3D
REFRESH-INTERVAL:P3D
CALSCALE:GREGORIAN
BEGIN:VEVENT
DTSTART:20190627T233000Z
DTEND:20190630T203000Z
X-MICROSOFT-CDO-ALLDAYEVENT:FALSE
SUMMARY:Cirque Italia - Gold Unit
DESCRIPTION:Cirque Italia\, America's first traveling Water Circus\, is constantly searching for new ways to provide once in a lifetime experiences to the American audience\, which lead to the introduction of our second unit\, the Gold Unit. Our aim is to produce a luxurious atmosphere where water\, technology\, and preforming arts are mixed to create a one-of-a-kind show.
X-ALT-DESC;FMTTYPE=text/html:Cirque Italia\, America&rsquo\;s first traveling Water Circus\, is constantly searching for new ways to provide once in a lifetime experiences to the American audience\, which lead to the introduction of our second unit\, the Gold Unit. Our aim is to produce a luxurious atmosphere where water\, technology\, and preforming arts are mixed to create a one-of-a-kind show.
LOCATION:Elkhart County Fairgrounds / 17746 County Road 34\, Goshen IN 46528
UID:e.689.19621
SEQUENCE:3
DTSTAMP:20260423T124822Z
URL:https://business.goshen.org/events/details/cirque-italia-gold-unit-19621
END:VEVENT

END:VCALENDAR
