BEGIN:VCALENDAR
VERSION:2.0
PRODID:-//ChamberMaster//Event Calendar 2.0//EN
METHOD:PUBLISH
X-PUBLISHED-TTL:P3D
REFRESH-INTERVAL:P3D
CALSCALE:GREGORIAN
BEGIN:VEVENT
DTSTART:20170923T120000Z
DTEND:20170923T140000Z
X-MICROSOFT-CDO-ALLDAYEVENT:FALSE
SUMMARY:Cholesterol Smart for Heart Health Event
DESCRIPTION:September is National Cholesterol Awareness Month. Elevated cholesterol is a risk factor for heart disease. Fasting cholesterol screenings will be available along with educational seminars at this free event. Learn more about the importance of cholesterol\, the impact of your lifestyle and what you can do to improve your numbers.
X-ALT-DESC;FMTTYPE=text/html:September is National Cholesterol Awareness Month. Elevated cholesterol is a risk factor for heart disease. Fasting cholesterol screenings will be available along with educational seminars at this free event. Learn more about the importance of cholesterol\, the impact of your lifestyle and what you can do to improve your numbers.
LOCATION:Goshen Hospital in the Arbor Conference Rooms\, 200 High Park Ave.\, Goshen\, IN 46526.
UID:e.689.16973
SEQUENCE:3
DTSTAMP:20260425T023444Z
URL:https://business.goshen.org/events/details/cholesterol-smart-for-heart-health-event-16973
END:VEVENT

END:VCALENDAR
