BEGIN:VCALENDAR
VERSION:2.0
PRODID:-//ChamberMaster//Event Calendar 2.0//EN
METHOD:PUBLISH
X-PUBLISHED-TTL:P3D
REFRESH-INTERVAL:P3D
CALSCALE:GREGORIAN
BEGIN:VEVENT
DTSTART:20190327T160000Z
DTEND:20190327T170000Z
X-MICROSOFT-CDO-ALLDAYEVENT:FALSE
SUMMARY:Children's Rally
DESCRIPTION:Open to the community   Join CAPS   Child And Parent Services at the Elkhart Civic Plaza from noon to 1 p.m. to make a statement against child abuse. Mayor Tom Neese will make a proclamation and Magistrate Deborah Domine will address child abuse today as it relates to Elkhart County. Participants are encouraged to wear blue and bring a sign that reveals how they support children or pledge to support children in the coming year.
X-ALT-DESC;FMTTYPE=text/html:Open to the community &ndash\; Join CAPS &ndash\; Child And Parent Services at the Elkhart Civic Plaza from noon to 1 p.m. to make a statement against child abuse. Mayor Tom Neese will make a proclamation and Magistrate Deborah Domine will address child abuse today as it relates to Elkhart County. Participants are encouraged to wear blue and bring a sign that reveals how they support children or pledge to support children in the coming year.
LOCATION:Elkhart Civic Plaza
UID:e.689.19204
SEQUENCE:3
DTSTAMP:20260423T194525Z
URL:https://business.goshen.org/events/details/children-s-rally-19204
END:VEVENT

END:VCALENDAR
