BEGIN:VCALENDAR
VERSION:2.0
PRODID:-//ChamberMaster//Event Calendar 2.0//EN
METHOD:PUBLISH
X-PUBLISHED-TTL:P3D
REFRESH-INTERVAL:P3D
CALSCALE:GREGORIAN
BEGIN:VEVENT
DTSTART:20170406T120000Z
DTEND:20170406T133000Z
X-MICROSOFT-CDO-ALLDAYEVENT:FALSE
SUMMARY:Chamber University: What is IT?
DESCRIPTION:Chamber University is a professional development program for you and your organization.  Chamber University is brought to you by Goshen Health and Insight Accounting Group.  Chamber U will have many different topics throughout the year\, and always try to enhance you or your organization.\n\n\n\nThis month\, we dive into the world of IT for business.  Grant Martin and Bill Haughee\, from BlueStar\, Inc.\, will be presenting some tips and tricks for anyone to understand in today's IT business climate.  Here is how they describe the presentation:\n\n    "In today's fast paced world\, technology touches nearly everything we do. Proactive management of IT resources helps ensure the viability\, stability and overall health of the systems critical to your business. This session will cover the basics of proactive IT management\, and give the attendees concrete suggestions for ways to approach this sometimes daunting task."\n\n\n\nJoin us on Thursday\, April 6th from 8am to 9:30am as we talk about this topic and look at the IT landscape\, how to be proactive with your IT\, and how to best decide what IT solutions you need for you and/or your organization.
X-ALT-DESC;FMTTYPE=text/html:Chamber University is a professional development program for you and your organization.&nbsp\; Chamber University is brought to you by Goshen Health and Insight Accounting Group.&nbsp\; Chamber U will have many different topics throughout the year\, and always try to enhance you or your organization.<br />\n<br />\nThis month\, we dive into the world of IT for business.&nbsp\; Grant Martin and Bill Haughee\, from BlueStar\, Inc.\, will be presenting some tips and tricks for anyone to understand in today&#39\;s IT business climate.&nbsp\; Here is how they describe the presentation:<br />\n&nbsp\;&nbsp\;&nbsp\; <em><strong><span style="font-family:arial\,sans-serif\;"><span style="font-size:10.0pt\;">&quot\;In today&rsquo\;s fast paced world\, technology touches nearly everything we do. Proactive management of IT resources helps ensure the viability\, stability and overall health of the systems critical to your business. This session will cover the basics of proactive IT management\, and give the attendees concrete suggestions for ways to approach this sometimes daunting task</span></span>.&quot\;</strong></em><br />\n<br />\nJoin us on Thursday\, April 6th from 8am to 9:30am as we talk about this topic and look at the IT landscape\, how to be proactive with your IT\, and how to best decide what IT solutions you need for you and/or your organization.
LOCATION:Goshen Chamber of Commerce Building 232 S. Main St. Goshen\, IN 46526
UID:e.689.16716
SEQUENCE:3
DTSTAMP:20260425T122346Z
URL:https://business.goshen.org/events/details/chamber-university-what-is-it-16716
END:VEVENT

END:VCALENDAR
