BEGIN:VCALENDAR
VERSION:2.0
PRODID:-//ChamberMaster//Event Calendar 2.0//EN
METHOD:PUBLISH
X-PUBLISHED-TTL:P3D
REFRESH-INTERVAL:P3D
CALSCALE:GREGORIAN
BEGIN:VEVENT
DTSTART:20160908T120000Z
DTEND:20160908T133000Z
X-MICROSOFT-CDO-ALLDAYEVENT:FALSE
SUMMARY:Chamber University - "Taking Control: Techniques to calm your mind\, mood\, and body"
DESCRIPTION:Join us for the 2016 Chamber University series!  Chamber University is a professional development set of seminars that are aimed to make a better you and better your organization.  Chamber University is brought to you by Insight Accounting Group and IU Health Goshen. \n\n\n\nJoin Hollie Carlson\, MEd\, Community Education and Outreach Director for IU Health Goshen as she walks you through ways to take back control of yourself.  Items that will be discussed are:\n\n	Defining stress & anxiety\n	Causes of stress and anxiety\n	Signs and symptoms and the effect of stress on our body and mind\n	How the force can alter our bodies\, minds and behaviors\n	Long term effects of negativity and stress\n	Recognizing triggers\n	Techniques to manage stress and anxiety\n	The Magic of perception\n	Complementary & alternative medicine therapies
X-ALT-DESC;FMTTYPE=text/html:<span class="cm_editor_fix">Join us for the 2016 Chamber University series!&nbsp\; Chamber University is a professional development set of seminars that are aimed to make a better you and better your organization.&nbsp\; Chamber University is brought to you by Insight Accounting Group and IU Health Goshen.&nbsp\;</span><br />\n<br />\nJoin Hollie Carlson\, MEd\, Community Education and Outreach Director for IU Health Goshen as she walks you through ways to take back control of yourself.&nbsp\; Items that will be discussed are:\n<ul>\n	<li>Defining stress &amp\; anxiety</li>\n	<li>Causes of stress and anxiety</li>\n	<li>Signs and symptoms and the effect of stress on our body and mind</li>\n	<li>How the force can alter our bodies\, minds and behaviors</li>\n	<li>Long term effects of negativity and stress</li>\n	<li>Recognizing triggers</li>\n	<li>Techniques to manage stress and anxiety</li>\n	<li>The Magic of perception</li>\n	<li>Complementary &amp\; alternative medicine therapies</li>\n</ul>\n<br />\n&nbsp\;
LOCATION:Goshen Chamber Building 232 S. Main St. Goshen\, IN 46526
UID:e.689.16161
SEQUENCE:3
DTSTAMP:20260425T222312Z
URL:https://business.goshen.org/events/details/chamber-university-taking-control-techniques-to-calm-your-mind-mood-and-body-09-08-2016-16161
END:VEVENT

END:VCALENDAR
