BEGIN:VCALENDAR
VERSION:2.0
PRODID:-//ChamberMaster//Event Calendar 2.0//EN
METHOD:PUBLISH
X-PUBLISHED-TTL:P3D
REFRESH-INTERVAL:P3D
CALSCALE:GREGORIAN
BEGIN:VEVENT
DTSTART:20170504T120000Z
DTEND:20170504T131500Z
X-MICROSOFT-CDO-ALLDAYEVENT:FALSE
SUMMARY:Chamber University: Get Your ROI on Your Chamber Membership
DESCRIPTION:May the 4th be with you as you join us for this Chamber University to learn more about how to maximize your Chamber Membership.  Learn about our online portals\, and how they can help your company gain exposure\, get information\, and let other Chamber Members know what you are doing. \n\n\n\nThere is no cost this month to Chamber Members\, thanks to our great sponsors Goshen Health and Insight Accounting Group.
X-ALT-DESC;FMTTYPE=text/html:May the 4th be with you as you join us for this Chamber University to learn more about how to maximize your Chamber Membership.&nbsp\; Learn about our online portals\, and how they can help your company gain exposure\, get information\, and let other Chamber Members know what you are doing.&nbsp\;<br />\n<br />\nThere is no cost this month to Chamber Members\, thanks to our great sponsors Goshen Health and Insight Accounting Group.
LOCATION:Goshen Chamber Building 232 S. Main St. Goshen\, IN 46526
UID:e.689.16787
SEQUENCE:3
DTSTAMP:20260425T104428Z
URL:https://business.goshen.org/events/details/chamber-university-get-your-roi-on-your-chamber-membership-16787
END:VEVENT

END:VCALENDAR
