BEGIN:VCALENDAR
VERSION:2.0
PRODID:-//ChamberMaster//Event Calendar 2.0//EN
METHOD:PUBLISH
X-PUBLISHED-TTL:P3D
REFRESH-INTERVAL:P3D
CALSCALE:GREGORIAN
BEGIN:VEVENT
DTSTART:20161013T120000Z
DTEND:20161013T133000Z
X-MICROSOFT-CDO-ALLDAYEVENT:FALSE
SUMMARY:Chamber University - Financial Planning for Individuals
DESCRIPTION:Join us for the 2016 Chamber University series!  Chamber University is a professional development set of seminars that are aimed to make a better you and better your organization.  Chamber University is brought to you by Insight Accounting Group and IU Health Goshen. \n\n\n\nJoin us for this informative session from KeyBank's Dave Beaverson\, CFP\, CTFA takes a look at ways to be smarter about your money.  Dave will take a look at the following steps to be successful in your future's planning by going over:\n\n	Select a planning professional\n	Gather data and set goal\n	Analyze and strategize\n	Review recommendations\n	Implement plan\n	Monitor progress and make adjustments\n\n\n\nDave is a Wealth Advisor with Key Private Bank\, and brings his clients a deeper understanding of how the economic environment affects their wealth-building and preservation goals.  He then delivers strategies to address the complex wealth management needs of his clients.
X-ALT-DESC;FMTTYPE=text/html:Join us for the 2016 Chamber University series!&nbsp\; Chamber University is a professional development set of seminars that are aimed to make a better you and better your organization.&nbsp\; Chamber University is brought to you by Insight Accounting Group and IU Health Goshen.&nbsp\;<br />\n<br />\nJoin us for this informative session from KeyBank&#39\;s Dave Beaverson\, CFP\, CTFA takes a look at ways to be smarter about your money.&nbsp\; Dave will take a look at the following steps to be successful in your future&#39\;s planning by going over:\n<ul>\n	<li>Select a planning professional</li>\n	<li>Gather data and set goal</li>\n	<li>Analyze and strategize</li>\n	<li>Review recommendations</li>\n	<li>Implement plan</li>\n	<li>Monitor progress and make adjustments</li>\n</ul>\n<br />\nDave is a Wealth Advisor with Key Private Bank\, and brings his clients a deeper understanding of how the economic environment affects their wealth-building and preservation goals.&nbsp\; He then delivers strategies to address the complex wealth management needs of his clients.<br />\n&nbsp\;
LOCATION:Goshen Chamber Building 232 S. Main St. Goshen\, IN
UID:e.689.15942
SEQUENCE:3
DTSTAMP:20260425T202915Z
URL:https://business.goshen.org/events/details/chamber-university-financial-planning-for-individuals-10-13-2016-15942
END:VEVENT

END:VCALENDAR
