BEGIN:VCALENDAR
VERSION:2.0
PRODID:-//ChamberMaster//Event Calendar 2.0//EN
METHOD:PUBLISH
X-PUBLISHED-TTL:P3D
REFRESH-INTERVAL:P3D
CALSCALE:GREGORIAN
BEGIN:VEVENT
DTSTART:20160505T120000Z
DTEND:20160505T133000Z
X-MICROSOFT-CDO-ALLDAYEVENT:FALSE
SUMMARY:Chamber University - Cyber Security and Identity Theft
DESCRIPTION:Join us for the 2016 Chamber University series!  Chamber University is a professional development set of seminars that are aimed to make a better you and better your organization.  Chamber University is brought to you by Insight Accounting Group and IU Health Goshen. \n\n\n\nThe topic for the May 5 session will be Business and Personal Security.\n\n\n\nHighlights include:\n\n	Cyber security for your business\n	    The real risks you face\n	    Security guidelines\n	    Best practices\n	    Financial security\n	 \n	Personal security and identity theft\n	    Different types of identity theft\n	    Scams and schemes\n	    Examples of local incidents\n	    What to do and what not to do\n	    Personal internet and e-mail security tips\n\n\n\nEach participant will receive a packet of useful information and resources.
X-ALT-DESC;FMTTYPE=text/html:Join us for the 2016 Chamber University series!&nbsp\; Chamber University is a professional development set of seminars that are aimed to make a better you and better your organization.&nbsp\; Chamber University is brought to you by Insight Accounting Group and IU Health Goshen.&nbsp\;<br />\n<br />\nThe topic for the May 5 session will be Business and Personal Security.<br />\n<br />\nHighlights include:\n<ul>\n	<li>Cyber security for your business</li>\n	<li>&nbsp\;&nbsp\;&nbsp\; The real risks you face</li>\n	<li>&nbsp\;&nbsp\;&nbsp\; Security guidelines</li>\n	<li>&nbsp\;&nbsp\;&nbsp\; Best practices</li>\n	<li>&nbsp\;&nbsp\;&nbsp\; Financial security</li>\n	<li>&nbsp\;</li>\n	<li>Personal security and identity theft</li>\n	<li>&nbsp\;&nbsp\;&nbsp\; Different types of identity theft</li>\n	<li>&nbsp\;&nbsp\;&nbsp\; Scams and schemes</li>\n	<li>&nbsp\;&nbsp\;&nbsp\; Examples of local incidents</li>\n	<li>&nbsp\;&nbsp\;&nbsp\; What to do&hellip\;and what not to do</li>\n	<li>&nbsp\;&nbsp\;&nbsp\; Personal internet and e-mail security tips</li>\n</ul>\n<br />\nEach participant will receive a packet of useful information and resources.<br />\n&nbsp\;
LOCATION:Goshen Chamber Building 232 S. Main St. Goshen\, IN
UID:e.689.15937
SEQUENCE:3
DTSTAMP:20260426T035830Z
URL:https://business.goshen.org/events/details/chamber-university-cyber-security-and-identity-theft-05-05-2016-15937
END:VEVENT

END:VCALENDAR
