BEGIN:VCALENDAR
VERSION:2.0
PRODID:-//ChamberMaster//Event Calendar 2.0//EN
METHOD:PUBLISH
X-PUBLISHED-TTL:P3D
REFRESH-INTERVAL:P3D
CALSCALE:GREGORIAN
BEGIN:VEVENT
DTSTART:20160602T120000Z
DTEND:20160602T133000Z
X-MICROSOFT-CDO-ALLDAYEVENT:FALSE
SUMMARY:Chamber University - Conflict: You can't live with it\; you can't live without it
DESCRIPTION:Join us for the 2016 Chamber University series!  Chamber University is a professional development set of seminars that are aimed to make a better you and better your organization.  Chamber University is brought to you by Insight Accounting Group and IU Health Goshen. \n\n\n\n"Conflict: You can't live with it\; you can't live without it"\n\n\n\nWhen conflict surfaces\, what do we do? Who should respond? What's my responsibility?\n\n\n\nWith the ever changing realities of organizational systems\, conflict is a reality. It is also often perceived as a negative\, something to avoid. Conflict however\, within its proper context\, can be a positive. This seminar will provide an overview of three forms of conflict and the impact it has\, both positive and negative\, within organizational systems. We will also consider various possibilities of response. The three forms of conflict considered will be subtle dysfunctional conflict\, interpersonal episodic conflict and leadership team conflict.\n\n\n\nBill Born\, Partner\, Venture International LLC\, will be the presenter for the seminar.  Bill is in his second year as a partner with Venture International LLC after 26 years in higher education. His focus areas currently include crisis management and communication\, DiSC  assessments\, leadership development and project management and strategic planning.
X-ALT-DESC;FMTTYPE=text/html:Join us for the 2016 Chamber University series!&nbsp\; Chamber University is a professional development set of seminars that are aimed to make a better you and better your organization.&nbsp\; Chamber University is brought to you by Insight Accounting Group and IU Health Goshen.&nbsp\;<br />\n<br />\n<span style="font-size: 14px\;"><em><strong>&ldquo\;Conflict: You can&rsquo\;t live with it\; you can&rsquo\;t live without it&rdquo\;</strong></em></span><br />\n<br />\nWhen conflict surfaces\, what do we do? Who should respond? What&rsquo\;s my responsibility?<br />\n<br />\nWith the ever changing realities of organizational systems\, conflict is a reality. It is also often perceived as a negative\, something to avoid. Conflict however\, within its proper context\, can be a positive. This seminar will provide an overview of three forms of conflict and the impact it has\, both positive and negative\, within organizational systems. We will also consider various possibilities of response. The three forms of conflict considered will be subtle dysfunctional conflict\, interpersonal episodic conflict and leadership team conflict.<br />\n<br />\nBill Born\, Partner\, Venture International LLC\, will be the presenter for the seminar.&nbsp\; Bill is in his second year as a partner with Venture International LLC after 26 years in higher education. His focus areas currently include crisis management and communication\, DiSC&reg\; assessments\, leadership development and project management and strategic planning.
LOCATION:Goshen Chamber Building 232 S. Main St. Goshen\, IN
UID:e.689.15938
SEQUENCE:3
DTSTAMP:20260426T023224Z
URL:https://business.goshen.org/events/details/chamber-university-conflict-you-can-t-live-with-it-you-can-t-live-without-it-06-02-2016-15938
END:VEVENT

END:VCALENDAR
