BEGIN:VCALENDAR
VERSION:2.0
PRODID:-//ChamberMaster//Event Calendar 2.0//EN
METHOD:PUBLISH
X-PUBLISHED-TTL:P3D
REFRESH-INTERVAL:P3D
CALSCALE:GREGORIAN
BEGIN:VEVENT
DTSTART:20160504T153000Z
DTEND:20160504T170000Z
X-MICROSOFT-CDO-ALLDAYEVENT:FALSE
SUMMARY:Chamber of Commerce Week - Member Appreciation Lunch
DESCRIPTION:Let David\, Nick\, and Kathy make you lunch!  Join us as we\, the staff\, say Thank You to you for all that you do to make the Goshen Chamber successful.  Hot dogs\, chips\, and more.  Bring your office and staff\, just register so we know how may to make!
X-ALT-DESC;FMTTYPE=text/html:Let David\, Nick\, and Kathy make you lunch!&nbsp\; Join us as we\, the staff\, say Thank You to you for all that you do to make the Goshen Chamber successful.&nbsp\; Hot dogs\, chips\, and more.&nbsp\; Bring your office and staff\, just register so we know how may to make!
LOCATION:Goshen Chamber Building 232 S. Main St. Goshen\, IN 46526
UID:e.689.15960
SEQUENCE:3
DTSTAMP:20260426T035943Z
URL:https://business.goshen.org/events/details/chamber-of-commerce-week-member-appreciation-lunch-05-04-2016-15960
END:VEVENT

END:VCALENDAR
