BEGIN:VCALENDAR
VERSION:2.0
PRODID:-//ChamberMaster//Event Calendar 2.0//EN
METHOD:PUBLISH
X-PUBLISHED-TTL:P3D
REFRESH-INTERVAL:P3D
CALSCALE:GREGORIAN
BEGIN:VEVENT
DTSTART:20170503T153000Z
DTEND:20170503T173000Z
X-MICROSOFT-CDO-ALLDAYEVENT:FALSE
SUMMARY:Chamber of Commerce Week Member Appreciation Day
DESCRIPTION:Let David\, Nick\, and Kathy make you lunch!  Join us as we\, the staff\, say Thank You to you for all that you do to make the Goshen Chamber successful.  Hot dogs\, chips\, and more.  Bring your office and staff\, just register so we know how may to make!
X-ALT-DESC;FMTTYPE=text/html:<div style="text-align: center\;"><span style="color: rgb(51\, 51\, 51)\; font-family: sans-serif\, Arial\, Verdana\, &quot\;Trebuchet MS&quot\;\; font-size: 13px\; background-color: rgb(255\, 255\, 255)\;">Let David\, Nick\, and Kathy make you lunch!&nbsp\; Join us as we\, the staff\, say Thank You to you for all that you do to make the Goshen Chamber successful.&nbsp\; Hot dogs\, chips\, and more.&nbsp\; Bring your office and staff\, just register so we know how may to make!</span></div>\n
LOCATION:Goshen Chamber of Commerce 232 S. Main Street Goshen\, IN 46526
UID:e.689.16346
SEQUENCE:3
DTSTAMP:20260425T104336Z
URL:https://business.goshen.org/events/details/chamber-of-commerce-week-member-appreciation-day-16346
END:VEVENT

END:VCALENDAR
