BEGIN:VCALENDAR
VERSION:2.0
PRODID:-//ChamberMaster//Event Calendar 2.0//EN
METHOD:PUBLISH
X-PUBLISHED-TTL:P3D
REFRESH-INTERVAL:P3D
CALSCALE:GREGORIAN
BEGIN:VEVENT
DTSTART:20180502T153000Z
DTEND:20180502T173000Z
X-MICROSOFT-CDO-ALLDAYEVENT:FALSE
SUMMARY:Chamber of Commerce Week - Member Appreciation Day!
DESCRIPTION:Let Nick and Kathy make you lunch!  Join us as we say "Thank You" for all that you do to make the Goshen Chamber successful.  Hot dogs\, chips\, and more.  Bring your office and staff\, just register so we know how may to make!
X-ALT-DESC;FMTTYPE=text/html:<span style="color: rgb(51\, 51\, 51)\; font-family: sans-serif\, Arial\, Verdana\, &quot\;Trebuchet MS&quot\;\; font-size: 13px\; text-align: center\; background-color: rgb(255\, 255\, 255)\;">Let Nick and Kathy make you lunch!&nbsp\; Join us as we say &quot\;Thank You&quot\; for all that you do to make the Goshen Chamber successful.&nbsp\; Hot dogs\, chips\, and more.&nbsp\; Bring your office and staff\, just register so we know how may to make!</span>
LOCATION:Goshen Chamber of Commerce 232 S. Main Street Goshen\, in 46526
UID:e.689.17787
SEQUENCE:3
DTSTAMP:20260424T134715Z
URL:https://business.goshen.org/events/details/chamber-of-commerce-week-member-appreciation-day-05-02-2018-17787
END:VEVENT

END:VCALENDAR
