BEGIN:VCALENDAR
VERSION:2.0
PRODID:-//ChamberMaster//Event Calendar 2.0//EN
METHOD:PUBLISH
X-PUBLISHED-TTL:P3D
REFRESH-INTERVAL:P3D
CALSCALE:GREGORIAN
BEGIN:VEVENT
DTSTART:20180501T120000Z
DTEND:20180501T140000Z
X-MICROSOFT-CDO-ALLDAYEVENT:FALSE
SUMMARY:Chamber of Commerce Week - Get to Know the Chamber Better!
DESCRIPTION:Get to Know Your Chamber Better\n\n\n\n \n\n        Stop by the Goshen Chamber for some coffee and treats and ask about anything that you can think of.  Learn more about the Goshen Chamber and the role we play in the community\, get a better understanding of how to use our database\, find out how you can get more involved in the Chamber\, you name it and we will do our best to answer it
X-ALT-DESC;FMTTYPE=text/html:<div style="text-align: center\;"><strong style="color: rgb(51\, 51\, 51)\; font-family: Roboto\, sans-serif\; font-size: 13px\; background-color: rgb(243\, 243\, 243)\;">Get to Know Your Chamber Better</strong><br />\n<br />\n&nbsp\;</div>\n\n<div style="text-align: center\;"><span style="color: rgb(51\, 51\, 51)\; font-family: Roboto\, sans-serif\; font-size: 13px\; background-color: rgb(243\, 243\, 243)\;">&nbsp\;&nbsp\;&nbsp\;&nbsp\;&nbsp\;&nbsp\;&nbsp\; Stop by the Goshen Chamber for some coffee and treats and ask about anything that you can think of.&nbsp\; Learn more about the Goshen Chamber and the role we play in the community\, get a better understanding of how to use our database\, find out how you can get more involved in the Chamber\, you name it and we will do our best to answer it</span></div>\n
LOCATION:Goshen Chamber of Commerce Building 232 S. Main Street Goshen\, IN
UID:e.689.17797
SEQUENCE:3
DTSTAMP:20260424T134445Z
URL:https://business.goshen.org/events/details/chamber-of-commerce-week-get-to-know-the-chamber-better-17797
END:VEVENT

END:VCALENDAR
