BEGIN:VCALENDAR
VERSION:2.0
PRODID:-//ChamberMaster//Event Calendar 2.0//EN
METHOD:PUBLISH
X-PUBLISHED-TTL:P3D
REFRESH-INTERVAL:P3D
CALSCALE:GREGORIAN
BEGIN:VEVENT
DTSTART:20241219T200000Z
DTEND:20241219T220000Z
X-MICROSOFT-CDO-ALLDAYEVENT:FALSE
SUMMARY:Chamber Holiday Open House
DESCRIPTION:Join us for one last Chamber Networking Event for 2024.  Stop by the Chamber office from 3pm-5pm for some refreshments and snacks and network with your fellow Chamber Members.
X-ALT-DESC;FMTTYPE=text/html:Join us for one last Chamber Networking Event for 2024.&nbsp\; Stop by the Chamber office from 3pm-5pm for some refreshments and snacks and network with your fellow Chamber Members.&nbsp\;&nbsp\;
LOCATION:Goshen Chamber Building 232 S. Main St. Goshen\, IN 46526
UID:e.689.25479
SEQUENCE:3
DTSTAMP:20260421T090931Z
URL:https://business.goshen.org/events/details/chamber-holiday-open-house-25479
END:VEVENT

END:VCALENDAR
