BEGIN:VCALENDAR
VERSION:2.0
PRODID:-//ChamberMaster//Event Calendar 2.0//EN
METHOD:PUBLISH
X-PUBLISHED-TTL:P3D
REFRESH-INTERVAL:P3D
CALSCALE:GREGORIAN
BEGIN:VEVENT
DTSTART:20190318T220000Z
DTEND:20190318T233000Z
X-MICROSOFT-CDO-ALLDAYEVENT:FALSE
SUMMARY:Chain Reactions-Charge
DESCRIPTION:Evan Bontrager\n\n574-238-0534\n\nevan@bontrager.net
X-ALT-DESC;FMTTYPE=text/html:Evan Bontrager<br />\n574-238-0534<br />\nevan@bontrager.net
LOCATION:
UID:e.689.19179
SEQUENCE:3
DTSTAMP:20260423T181954Z
URL:https://business.goshen.org/events/details/chain-reactions-charge-19179
END:VEVENT

END:VCALENDAR
