BEGIN:VCALENDAR
VERSION:2.0
PRODID:-//ChamberMaster//Event Calendar 2.0//EN
METHOD:PUBLISH
X-PUBLISHED-TTL:P3D
REFRESH-INTERVAL:P3D
CALSCALE:GREGORIAN
BEGIN:VEVENT
DTSTART:20171108T123000Z
DTEND:20171108T220000Z
X-MICROSOFT-CDO-ALLDAYEVENT:FALSE
SUMMARY:CFO Summit by Kruggel Lawton CPAs
DESCRIPTION:The CFO Summit presented by Kruggel Lawton CPAs will take place on Wednesday\, November 8\, at Essenhaus Inn & Conference Center in Middlebury. This full-day program features a range of timely topics geared towards busy financial managers in senior accounting positions. Join us for a day to plug in\, recharge\, and connect with other professionals in your field. Cost to attend is only $100 per person and includes 8 hours of CPE credit\, continental breakfast\, and lunch. Breakfast and check-in will begin at 7:30 a.m. with sessions starting at 8:00 a.m. Register today at www.klcpas.com/cfosummit or by phone at 574-289-4011.
X-ALT-DESC;FMTTYPE=text/html:<div>The CFO Summit presented by Kruggel Lawton CPAs will take place on Wednesday\, November 8\, at Essenhaus Inn &amp\; Conference Center in Middlebury. This full-day program features a range of timely topics geared towards busy financial managers in senior accounting positions. Join us for a day to plug in\, recharge\, and connect with other professionals in your field. Cost to attend is only $100 per person and includes 8 hours of CPE credit\, continental breakfast\, and lunch. Breakfast and check-in will begin at 7:30 a.m. with sessions starting at 8:00 a.m. Register today at <a href="http://www.klcpas.com/cfosummit" rel="eplinks_hrefhttp://www.klcpas.com/cfosummit" target="_blank">www.klcpas.com/cfosummit</a> or by phone at 574-289-4011.&nbsp\;</div>\n
LOCATION:Essenhaus Inn & Conference Center\, 240 U.S. 20\, Middlebury\, IN\, 45640
UID:e.689.16829
SEQUENCE:3
DTSTAMP:20260425T005315Z
URL:https://business.goshen.org/events/details/cfo-summit-by-kruggel-lawton-cpas-16829
END:VEVENT

END:VCALENDAR
