BEGIN:VCALENDAR
VERSION:2.0
PRODID:-//ChamberMaster//Event Calendar 2.0//EN
METHOD:PUBLISH
X-PUBLISHED-TTL:P3D
REFRESH-INTERVAL:P3D
CALSCALE:GREGORIAN
BEGIN:VEVENT
DTSTART:20181108T123000Z
DTEND:20181108T220000Z
X-MICROSOFT-CDO-ALLDAYEVENT:FALSE
SUMMARY:CFO Summit 2018
DESCRIPTION:This full-day program will feature a range of timely topics geared towards busy financial managers in senior accounting positions. Join us for a day to plug in\, recharge\, and connect with other professionals in your field.  The CFO's perspective serves as the foundation for every session we plan at CFO Summit. We will examine what's coming down the line in tax reform\, HR\, technology and much more. That way\, you can map a confident course of action - one that will lead to success in the year ahead and beyond for you and your organization.\n\nWHO SHOULD ATTEND:\n\n\n	CFOs\n	CEOs\n	Corporate leaders\n	C-suite executives\n	Finance directors\n	Controllers\n\nRegister here.
X-ALT-DESC;FMTTYPE=text/html:<p>This full-day program will feature a range of timely topics geared towards busy financial managers in senior accounting positions. Join us for a day to plug in\, recharge\, and connect with other professionals in your field.&nbsp\; The CFO&#39\;s perspective serves as the foundation for every session we plan at&nbsp\;CFO Summit. We will examine what&#39\;s coming down the line in tax reform\, HR\, technology and much more. That way\, you can map a confident course of action - one that will lead to success in the year ahead and beyond for you and your organization.</p>\n\n<p>WHO SHOULD ATTEND:</p>\n\n<ul>\n	<li>CFOs</li>\n	<li>CEOs</li>\n	<li>Corporate leaders</li>\n	<li>C-suite executives</li>\n	<li>Finance directors</li>\n	<li>Controllers</li>\n</ul>\n<a href="https://www.klcpas.com/event/cfo-summit-2018/" target="_blank"><strong>Register here.</strong></a>
LOCATION:Essenhaus Inn & Conference Center 240 U.S. 20 Middlebury\, IN 46540
UID:e.689.18229
SEQUENCE:3
DTSTAMP:20260424T004403Z
URL:https://business.goshen.org/events/details/cfo-summit-2018-18229
END:VEVENT

END:VCALENDAR
