BEGIN:VCALENDAR
VERSION:2.0
PRODID:-//ChamberMaster//Event Calendar 2.0//EN
METHOD:PUBLISH
X-PUBLISHED-TTL:P3D
REFRESH-INTERVAL:P3D
CALSCALE:GREGORIAN
BEGIN:VEVENT
DTSTART:20200126T210000Z
DTEND:20200126T230000Z
X-MICROSOFT-CDO-ALLDAYEVENT:FALSE
SUMMARY:Celebrating Music in Our Schools
DESCRIPTION:The symphony will be joined in a side-by-side performance of Brahms' "Hungarian Dances 5 and 6" as the Elkhart Central High School Symphony Orchestra joins the Elkhart County Symphony. The young musicians will share stands with adult symphony members\, who will serve as mentors. The concert will also feature the amazing violinist Wen Lei Gu performing Sibelius' "Violin Concerto in D minor." Gu comes to Elkhart from Lawrence University in Appleton\, Wis. The program will also include Brahms' "Academic Festival Overture" and Sibelius' "Karelia Suite."
X-ALT-DESC;FMTTYPE=text/html:The symphony will be joined in a side-by-side performance of Brahms&rsquo\; &ldquo\;Hungarian Dances 5 and 6&rdquo\; as the Elkhart Central High School Symphony Orchestra joins the Elkhart County Symphony. The young musicians will share stands with adult symphony members\, who will serve as mentors. The concert will also feature the amazing violinist Wen Lei Gu performing Sibelius&rsquo\; &ldquo\;Violin Concerto in D minor.&rdquo\; Gu comes to Elkhart from Lawrence University in Appleton\, Wis. The program will also include Brahms&rsquo\; &ldquo\;Academic Festival Overture&rdquo\; and Sibelius&rsquo\; &ldquo\;Karelia Suite.&rdquo\;
LOCATION:The Lerner Theatre
UID:e.689.20391
SEQUENCE:3
DTSTAMP:20260423T002332Z
URL:https://business.goshen.org/events/details/celebrating-music-in-our-schools-20391
END:VEVENT

END:VCALENDAR
