BEGIN:VCALENDAR
VERSION:2.0
PRODID:-//ChamberMaster//Event Calendar 2.0//EN
METHOD:PUBLISH
X-PUBLISHED-TTL:P3D
REFRESH-INTERVAL:P3D
CALSCALE:GREGORIAN
BEGIN:VEVENT
DTSTART:20181110T130000Z
DTEND:20181110T183000Z
X-MICROSOFT-CDO-ALLDAYEVENT:FALSE
SUMMARY:Caregiver’s Navigation
DESCRIPTION:Help is Here for Caregivers!\n\n	The education\, insight\, guidance and resources gained from this event is priceless.  \n	The cost is $10 per person and includes a delicious lunch from Columbo's Restaurant (Lasagna\, Garden Salad\, Homemade rolls).  \n	If you or someone you know would benefit from this program and can't afford it\, please call me\, we have a few scholarships available.  \n	The cost goes up to $15 on Thursday!\n\nCaregiver's Navigation\n\nSaturday\, November 10\, 2018\n\n8:30 a.m. (doors open at 8 am)   1:30 p.m.\n\nGoshen Hospital   Arbor Conference Rooms\n\n \n\n2018 EDUCATION\n\n\n\nLegal Finances\, Estate Planning (Paul Eash\, Eldercare Attorney). \n\nHow to better understand and talk to your loved one about finances\, estate planning\, power of attorney\, wills and more\n\n \n\nSocial Security and Insurances (Health Markets).  Understanding Social Security Benefits\, Medicare\, Medicare Supplements and Medicaid\n\n \n\nLong Term Care Options (Larson Manifold\, Firefly LLC & Sheena Whitaker\, Greencroft Goshen) Understanding your loved ones long term needs and options if vital.  This session will explain Home Health Care options\, Long Term Care options and the differences.\n\n \n\nPlanning the Final Farewell (Colin Yoder\, Yoder Culp Funeral Home) this session will cover how funerals are changing\, the process and options for planning a funeral service.\n\n \n\nPain Management Lunch & Learn  (Dr. Robert Hill\, Pain Management Physician).  As a caregiver\, it is difficult to see our loves ones suffering from chronic pain.  Has modern medicine discovered the magical pill to make it go away?  This session will help you to understand pain management and discuss options to help alleviate it.\n\n\n\nThis event brings local experts together to present information as well as to give caregivers the opportunity to ask their specific questions.  Exhibitors will be available to provide resources and answer individual questions.  \n\n \n\nExhibitors include:\n\n \n\n	Boling Vision\n	Care Patrol of Michiana\n	Caregiver Homes of Indiana\n	Courtyard Healthcare Center\n	Elkhart County Council on Aging\n	Firefly\, LLC.\n	Goshen Health\n	Goshen Home Care & Hospice\n	Goshen Home Medical\n	Greencroft Goshen\n	Health Markets\n	Home Instead Senior Care\n	Home Safety Advisors\n	Kaleidoscope Services\n	Kosciusko Home Care & Hospice\n	Law Office of Paul Eash\n	Michiana Institute for Successful Aging (MISA)\n	Sharpe Realty\, LLC.\n	& More!\n\n \n\nThere are several ways to register:\n\nOnline:  https://goshenhealth.com/Find-Events/Detail?id=GOSH0051\n\nFacebook:  Either through Goshen Home Medical Events page or directly to the event page:  https://www.facebook.com/events/231686847395333/  (please feel free to share this on your page)\n\nBy Phone:  1(877)-566-4660 by tomorrow!  After Wednesday and for further information\, call me or email Marlies (contact info below).\n\n \n\nP.S.  MARK YOUR CALENDARS FOR GOSHEN HOME MEDICAL'S HOLIDAY OPEN HOUSE ON NOVEMBER 28\, 2018\n\n \n\nHoliday Open House\n\nWednesday\, November 28\, 2018       11:00 am   2 pm\n\n \n\n	Amazing savings and flash sales\n	Featuring new products\n	Uniforms & Logo Wearables\n	Give-a-ways & Drawings\n	Food and refreshments\n	Unique Holiday Gift Ideas\n	Free Blood Pressure Screenings\n	Free CPAP checks\n\n \n\n \n\nMarlies Selent-West\n\nMarketing Representative | Goshen Home Medical\n\n(574) 533-0626 Ext. 110 \n\n(574) 215-8732 cell\n\n(574) 533-8948 fax\n\n1501 South Main Street\, Goshen\, IN 46526\n\nGoshenHomeMedical.com
X-ALT-DESC;FMTTYPE=text/html:<strong><span style="font-size:22.0pt\;">Help is Here for Caregivers!</span></strong>\n<ul>\n	<li style="margin-left:0in\;"><strong><span style="background:yellow\;"><span style="font-size:12.0pt\;">The education\, insight\, guidance and resources gained from this event is priceless.&nbsp\; </span></span></strong></li>\n	<li style="margin-left:0in\;"><span style="background:yellow\;"><span style="font-size:12.0pt\;">The cost is $10 per person and includes a delicious lunch from Columbo&rsquo\;s Restaurant (Lasagna\, Garden Salad\, Homemade rolls).&nbsp\; </span></span></li>\n	<li style="margin-left:0in\;"><span style="background:yellow\;"><span style="font-size:12.0pt\;">If you or someone you know would benefit from this program and can&rsquo\;t afford it\, please call me\, we have a few scholarships available.&nbsp\; </span></span></li>\n	<li style="margin-left:0in\;"><span style="background:yellow\;"><span style="font-size:12.0pt\;">The cost goes up to $15 on Thursday!</span></span></li>\n</ul>\n<strong><span style="color:white\;"><span style="font-size:20.0pt\;">Caregiver&rsquo\;s Navigation</span></span></strong><br />\n<strong><span style="color:white\;"><span style="font-size:13.0pt\;">Saturday\, November 10\, 2018</span></span></strong><br />\n<strong><span style="color:white\;"><span style="font-size:13.0pt\;">8:30 a.m. (doors open at 8 am) &ndash\; 1:30 p.m.</span></span></strong><br />\n<strong><span style="color:white\;"><span style="font-size:13.0pt\;">Goshen Hospital &ndash\; Arbor Conference Rooms</span></span></strong><br />\n&nbsp\;<br />\n<strong><span style="color:#33CCCC\;"><span style="font-size:14.0pt\;">2018 EDUCATION</span></span></strong><br />\n<br />\n<span style="font-size:12.0pt\;"><strong><u>Legal Finances\, Estate Planning</u></strong> (Paul Eash\, Eldercare Attorney).&nbsp\;<br />\nHow to better understand and talk to your loved one about finances\, estate planning\, power of attorney\, wills and more</span><br />\n&nbsp\;<br />\n<strong><u><span style="font-size:12.0pt\;">Social Security and Insurances</span></u></strong> <span style="font-size:12.0pt\;">(Health Markets).&nbsp\; Understanding Social Security Benefits\, Medicare\, Medicare Supplements and Medicaid</span><br />\n&nbsp\;<br />\n<strong><u><span style="font-size:12.0pt\;">Long Term Care Options</span></u></strong><span style="font-size:12.0pt\;"> (Larson Manifold\, Firefly LLC &amp\; Sheena Whitaker\, Greencroft Goshen) Understanding your loved ones long term needs and options if vital.&nbsp\; This session will explain Home Health Care options\, Long Term Care options and the differences.</span><br />\n&nbsp\;<br />\n<strong><u><span style="font-size:12.0pt\;">Planning the Final Farewell</span></u></strong><span style="font-size:12.0pt\;"> (Colin Yoder\, Yoder Culp Funeral Home) this session will cover how funerals are changing\, the process and options for planning a funeral service.</span><br />\n&nbsp\;<br />\n<strong><u><span style="font-size:12.0pt\;">Pain Management Lunch &amp\; Learn</span></u></strong> <span style="font-size:12.0pt\;">&nbsp\;<u>(</u>Dr. Robert Hill\, Pain Management Physician).&nbsp\; As a caregiver\, it is difficult to see our loves ones suffering from chronic pain.&nbsp\; Has modern medicine discovered the magical pill to make it go away?&nbsp\; This session will help you to understand pain management and discuss options to help alleviate it.</span><br />\n<br />\n<span style="font-size:12.0pt\;">This event brings local experts together to present information as well as to give caregivers the opportunity to ask their specific questions.&nbsp\; Exhibitors will be available to provide resources and answer individual questions.&nbsp\; </span><br />\n&nbsp\;<br />\n<span style="font-size:12.0pt\;">Exhibitors include:</span><br />\n&nbsp\;\n<ul>\n	<li style="margin-top:6.0pt\;margin-bottom:8.0pt\;"><span style="font-size:12.0pt\;">Boling Vision</span></li>\n	<li style="margin-top:6.0pt\;margin-bottom:8.0pt\;"><span style="font-size:12.0pt\;">Care Patrol of Michiana</span></li>\n	<li style="margin-top:6.0pt\;margin-bottom:8.0pt\;"><span style="font-size:12.0pt\;">Caregiver Homes of Indiana</span></li>\n	<li style="margin-top:6.0pt\;margin-bottom:8.0pt\;"><span style="font-size:12.0pt\;">Courtyard Healthcare Center</span></li>\n	<li style="margin-top:6.0pt\;margin-bottom:8.0pt\;"><span style="font-size:12.0pt\;">Elkhart County Council on Aging</span></li>\n	<li style="margin-top:6.0pt\;margin-bottom:8.0pt\;"><span style="font-size:12.0pt\;">Firefly\, LLC.</span></li>\n	<li style="margin-top:6.0pt\;margin-bottom:8.0pt\;"><span style="font-size:12.0pt\;">Goshen Health</span></li>\n	<li style="margin-top:6.0pt\;margin-bottom:8.0pt\;"><span style="font-size:12.0pt\;">Goshen Home Care &amp\; Hospice</span></li>\n	<li style="margin-top:6.0pt\;margin-bottom:8.0pt\;"><span style="font-size:12.0pt\;">Goshen Home Medical</span></li>\n	<li style="margin-top:6.0pt\;margin-bottom:8.0pt\;"><span style="font-size:12.0pt\;">Greencroft Goshen</span></li>\n	<li style="margin-top:6.0pt\;margin-bottom:8.0pt\;"><span style="font-size:12.0pt\;">Health Markets</span></li>\n	<li style="margin-top:6.0pt\;margin-bottom:8.0pt\;"><span style="font-size:12.0pt\;">Home Instead Senior Care</span></li>\n	<li style="margin-top:6.0pt\;margin-bottom:8.0pt\;"><span style="font-size:12.0pt\;">Home Safety Advisors</span></li>\n	<li style="margin-top:6.0pt\;margin-bottom:8.0pt\;"><span style="font-size:12.0pt\;">Kaleidoscope Services</span></li>\n	<li style="margin-top:6.0pt\;margin-bottom:8.0pt\;"><span style="font-size:12.0pt\;">Kosciusko Home Care &amp\; Hospice</span></li>\n	<li style="margin-top:6.0pt\;margin-bottom:8.0pt\;"><span style="font-size:12.0pt\;">Law Office of Paul Eash</span></li>\n	<li style="margin-top:6.0pt\;margin-bottom:8.0pt\;"><span style="font-size:12.0pt\;">Michiana Institute for Successful Aging (MISA)</span></li>\n	<li style="margin-top:6.0pt\;margin-bottom:8.0pt\;"><span style="font-size:12.0pt\;">Sharpe Realty\, LLC.</span></li>\n	<li style="margin-top:6.0pt\;margin-bottom:8.0pt\;background:white\;"><span style="font-size:12.0pt\;">&amp\; More!</span></li>\n</ul>\n&nbsp\;<br />\n<em><span style="font-size:12.0pt\;">There are several ways to register:</span></em><br />\n<strong><span style="font-size:12.0pt\;">Online:&nbsp\; <a href="https://goshenhealth.com/Find-Events/Detail?id=GOSH0051" target="_blank">https://goshenhealth.com/Find-Events/Detail?id=GOSH0051</a></span></strong><br />\n<strong><span style="font-size:12.0pt\;">Facebook</span></strong><span style="font-size:12.0pt\;">:&nbsp\; Either through Goshen Home Medical Events page or directly to the event page:<strong>&nbsp\; <a href="https://www.facebook.com/events/231686847395333/" target="_blank">https://www.facebook.com/events/231686847395333/</a></strong>&nbsp\; (please feel free to share this on your page)</span><br />\n<strong><span style="font-size:12.0pt\;">By Phone:&nbsp\; </span></strong><span style="font-size:12.0pt\;">1(877)-566-4660 by tomorrow!&nbsp\; After Wednesday and for further information\, call me or email Marlies (contact info below).</span><br />\n&nbsp\;<br />\n<strong><span style="border:double #00B050 1.5pt\;padding:0in\;"><span style="color:red\;"><span style="font-size:14.0pt\;">P.S</span></span></span></strong><span style="border:double #00B050 1.5pt\;padding:0in\;"><span style="color:red\;"><span style="font-size:14.0pt\;">.</span></span></span><span style="border:double #00B050 1.5pt\;padding:0in\;"><span style="color:red\;">&nbsp\; <strong>MARK YOUR CALENDARS FOR GOSHEN HOME MEDICAL&rsquo\;S HOLIDAY OPEN HOUSE ON NOVEMBER 28\, 2018</strong></span></span><br />\n&nbsp\;<br />\n<strong><span style="color:#F79646\;"><span style="font-family:edwardian script itc\;"><span style="font-size:48.0pt\;">Holiday Open House</span></span></span></strong><br />\n<strong><span style="background:red\;"><span style="color:white\;"><span style="font-size:14.0pt\;">Wednesday\, November 28\, 2018&nbsp\;&nbsp\;&nbsp\;&nbsp\;&nbsp\;&nbsp\; 11:00 am &ndash\; 2 pm</span></span></span></strong><br />\n&nbsp\;\n<ul>\n	<li style="margin-bottom:10.0pt\;margin-left:.25in\;"><span style="font-family:estrangelo edessa\,serif\;"><span style="font-size:12.0pt\;">Amazing savings and flash sales</span></span></li>\n	<li style="margin-bottom:10.0pt\;margin-left:.25in\;"><span style="font-family:estrangelo edessa\,serif\;"><span style="font-size:12.0pt\;">Featuring new products</span></span></li>\n	<li style="margin-bottom:10.0pt\;margin-left:.25in\;"><span style="font-family:estrangelo edessa\,serif\;"><span style="font-size:12.0pt\;">Uniforms &amp\; Logo Wearables</span></span></li>\n	<li style="margin-bottom:10.0pt\;margin-left:.25in\;"><span style="font-family:estrangelo edessa\,serif\;"><span style="font-size:12.0pt\;">Give-a-ways &amp\; Drawings</span></span></li>\n	<li style="margin-bottom:10.0pt\;margin-left:.25in\;"><span style="font-family:estrangelo edessa\,serif\;"><span style="font-size:12.0pt\;">Food and refreshments</span></span></li>\n	<li style="margin-bottom:10.0pt\;margin-left:.25in\;"><span style="font-family:estrangelo edessa\,serif\;"><span style="font-size:12.0pt\;">Unique Holiday Gift Ideas</span></span></li>\n	<li style="margin-bottom:10.0pt\;margin-left:.25in\;"><span style="font-family:estrangelo edessa\,serif\;"><span style="font-size:12.0pt\;">Free Blood Pressure Screenings</span></span></li>\n	<li style="margin-bottom:10.0pt\;margin-left:.25in\;"><span style="font-family:estrangelo edessa\,serif\;"><span style="font-size:12.0pt\;">Free CPAP checks</span></span></li>\n</ul>\n&nbsp\;<br />\n&nbsp\;<br />\n<strong><span style="color:#027B8B\;"><span style="font-family:arial\,sans-serif\;"><span style="font-size:12.5pt\;">Marlies Selent-West</span></span></span></strong><br />\n<strong><span style="font-family:arial\,sans-serif\;"><span style="font-size:10.0pt\;">Marketing Representative </span></span></strong><span style="font-family:arial\,sans-serif\;"><span style="font-size:10.0pt\;">| <strong>Goshen Home Medical</strong></span></span><br />\n<span style="font-family:arial\,sans-serif\;"><span style="font-size:10.0pt\;">(574) 533-0626 Ext. 110 </span></span><br />\n<span style="font-family:arial\,sans-serif\;"><span style="font-size:10.0pt\;">(574) 215-8732<strong> cell</strong></span></span><br />\n<span style="font-family:arial\,sans-serif\;"><span style="font-size:10.0pt\;">(574) 533-8948 <strong>fax</strong></span></span><br />\n<span style="font-family:arial\,sans-serif\;"><span style="font-size:10.0pt\;">1501 South Main Street\, Goshen\, IN 46526</span></span><br />\n<a href="http://www.goshenhealth.com/"><strong><span style="color:#027B8B\;"><span style="font-family:arial\,sans-serif\;"><span style="font-size:10.0pt\;">GoshenHomeMedical.com</span></span></span></strong></a><br />\n&nbsp\;
LOCATION:GGoshen Hospital Arbor Conference Rooms Goshen Hospital - Arbor Conference Roomsoshen Hospital Arbor Conference Rooms
UID:e.689.18318
SEQUENCE:3
DTSTAMP:20260424T005459Z
URL:https://business.goshen.org/events/details/caregiver-s-navigation-18318
END:VEVENT

END:VCALENDAR
