BEGIN:VCALENDAR
VERSION:2.0
PRODID:-//ChamberMaster//Event Calendar 2.0//EN
METHOD:PUBLISH
X-PUBLISHED-TTL:P3D
REFRESH-INTERVAL:P3D
CALSCALE:GREGORIAN
BEGIN:VEVENT
DTSTART;VALUE=DATE:20161112
DTEND;VALUE=DATE:20161113
TRANSP:TRANSPARENT
X-MICROSOFT-CDO-ALLDAYEVENT:TRUE
SUMMARY:Caregiver's Navigation
DESCRIPTION:A very special event that provides resources\, information and education to help caregivers of all types.  A variety of topics include understanding hospital stays\, long term care\, Elder Law and much more!  Cost is $10 per person   includes lunch and resource guide.  Event will be held at IU Health Goshen Hospital Arbor Rooms.  Contact Marlies at 574-533-0626\, Ext. 110 for more information.   THIS EVENT SOLD OUT IN 2015!
X-ALT-DESC;FMTTYPE=text/html:<span style="font-size: 10pt\;"><span style="font-family: calibri\;">A very special event that provides resources\, information and education to help caregivers of all types.&nbsp\; A variety of topics include understanding hospital stays\, long term care\, Elder Law and much more!&nbsp\; Cost is $10 per person &ndash\; includes lunch and resource guide.&nbsp\; Event will be held at IU Health Goshen Hospital Arbor Rooms.&nbsp\; Contact Marlies at 574-533-0626\, Ext. 110 for more information.&nbsp\; &nbsp\;<strong><span style="color: rgb(79\, 129\, 189)\;">THIS EVENT SOLD OUT IN 2015!</span></strong></span></span><br />\n&nbsp\;
LOCATION:IU Health Goshen Hospital Arbor Rooms
UID:e.689.16165
SEQUENCE:3
DTSTAMP:20260425T190148Z
URL:https://business.goshen.org/events/details/caregiver-s-navigation-11-12-2016-16165
END:VEVENT

END:VCALENDAR
