BEGIN:VCALENDAR
VERSION:2.0
PRODID:-//ChamberMaster//Event Calendar 2.0//EN
METHOD:PUBLISH
X-PUBLISHED-TTL:P3D
REFRESH-INTERVAL:P3D
CALSCALE:GREGORIAN
BEGIN:VEVENT
DTSTART:20170429T130000Z
DTEND:20170429T150000Z
X-MICROSOFT-CDO-ALLDAYEVENT:FALSE
SUMMARY:CAPS Superhero 5k and Sidekicks Fun Run!
DESCRIPTION:CAPS Superhero 5K Run/Walk and 300m Sidekick Family Fun Run: Run\, walk\, stroll\, crawl. No matter how you cross the finish line\, you will have helped kids and parents in Elkhart County become Super Families! CAPS wants you to put on your favorite cape and mask and show us the superhero you are in real life! Whether you build a team or go solo\, you will be helping to make our community stronger! Register or find out more at http://bit.ly/2jfSPBk.
X-ALT-DESC;FMTTYPE=text/html:CAPS Superhero 5K Run/Walk and 300m Sidekick Family Fun Run: Run\, walk\, stroll\, crawl. No matter how you cross the finish line\, you will have helped kids and parents in Elkhart County become Super Families! CAPS wants you to put on your favorite cape and mask and show us the superhero you are in real life! Whether you build a team or go solo\, you will be helping to make our community stronger! Register or find out more at http://bit.ly/2jfSPBk.
LOCATION:Civic Plaza in Downtown Elkhart
UID:e.689.16746
SEQUENCE:3
DTSTAMP:20260425T122525Z
URL:https://business.goshen.org/events/details/caps-superhero-5k-and-sidekicks-fun-run-16746
END:VEVENT

END:VCALENDAR
