BEGIN:VCALENDAR
VERSION:2.0
PRODID:-//ChamberMaster//Event Calendar 2.0//EN
METHOD:PUBLISH
X-PUBLISHED-TTL:P3D
REFRESH-INTERVAL:P3D
CALSCALE:GREGORIAN
BEGIN:VEVENT
DTSTART:20170331T200000Z
DTEND:20170331T210000Z
X-MICROSOFT-CDO-ALLDAYEVENT:FALSE
SUMMARY:CAPS Pinwheel Planting Ceremony
DESCRIPTION:CAPS   Child And Parent Services   recognizes these children every April by planting 3\,000 blue pinwheels in the front lawn of our building\, the Joy Rose Center\, at 1000 W. Hively Ave. in Elkhart. April is National Child Abuse Prevention Month and the pinwheel is a symbol of child abuse prevention\; a symbol of a carefree\, playful childhood for every child. We at CAPS invite the press and the public to join us on Friday\, March 31\, at 4 p.m. to plant these pinwheels. This beautiful display of blue pinwheels fluttering in the wind will stand throughout the month of April\, serving to remind all of us of our role in keeping children safe from abuse and neglect
X-ALT-DESC;FMTTYPE=text/html:CAPS &ndash\; Child And Parent Services &ndash\; recognizes these children every April by planting 3\,000 blue pinwheels in the front lawn of our building\, the Joy Rose Center\, at 1000 W. Hively Ave. in Elkhart. April is National Child Abuse Prevention Month and the pinwheel is a symbol of child abuse prevention\; a symbol of a carefree\, playful childhood for every child. We at CAPS invite the press and the public to join us on Friday\, March 31\, at 4 p.m. to plant these pinwheels. This beautiful display of blue pinwheels fluttering in the wind will stand throughout the month of April\, serving to remind all of us of our role in keeping children safe from abuse and neglect
LOCATION:Joy Rose Center 1000 W. Hively Ave Elkhart\, IN 46517
UID:e.689.16744
SEQUENCE:3
DTSTAMP:20260425T122537Z
URL:https://business.goshen.org/events/details/caps-pinwheel-planting-ceremony-16744
END:VEVENT

END:VCALENDAR
